BEGIN:VCALENDAR
VERSION:2.0
PRODID:-//German Chapter of the ACM - ECPv6.15.20//NONSGML v1.0//EN
CALSCALE:GREGORIAN
METHOD:PUBLISH
X-WR-CALNAME:German Chapter of the ACM
X-ORIGINAL-URL:https://germany.acm.org
X-WR-CALDESC:Veranstaltungen für German Chapter of the ACM
REFRESH-INTERVAL;VALUE=DURATION:PT1H
X-Robots-Tag:noindex
X-PUBLISHED-TTL:PT1H
BEGIN:VTIMEZONE
TZID:Europe/Berlin
BEGIN:DAYLIGHT
TZOFFSETFROM:+0100
TZOFFSETTO:+0200
TZNAME:CEST
DTSTART:20170326T010000
END:DAYLIGHT
BEGIN:STANDARD
TZOFFSETFROM:+0200
TZOFFSETTO:+0100
TZNAME:CET
DTSTART:20171029T010000
END:STANDARD
BEGIN:DAYLIGHT
TZOFFSETFROM:+0100
TZOFFSETTO:+0200
TZNAME:CEST
DTSTART:20180325T010000
END:DAYLIGHT
BEGIN:STANDARD
TZOFFSETFROM:+0200
TZOFFSETTO:+0100
TZNAME:CET
DTSTART:20181028T010000
END:STANDARD
BEGIN:DAYLIGHT
TZOFFSETFROM:+0100
TZOFFSETTO:+0200
TZNAME:CEST
DTSTART:20190331T010000
END:DAYLIGHT
BEGIN:STANDARD
TZOFFSETFROM:+0200
TZOFFSETTO:+0100
TZNAME:CET
DTSTART:20191027T010000
END:STANDARD
END:VTIMEZONE
BEGIN:VEVENT
DTSTART;TZID=Europe/Berlin:20180604T210000
DTEND;TZID=Europe/Berlin:20180604T220000
DTSTAMP:20260425T165908
CREATED:20180622T051234Z
LAST-MODIFIED:20180622T051234Z
UID:277-1528146000-1528149600@germany.acm.org
SUMMARY:Plug&Play-Kompressing mit dem Framework tudocomp
DESCRIPTION:Datum: 04.06.2018\nThema: Plug&Play-Kompression mit dem Framework tudocomp\nReferent: Dipl. Math. Dominik Köppl\, Algorithmische Grundlangen und Vermittlung in der Informatik\, Lehrstuhl 11\, Informatik\, TU Dortmund\nAbstract: Das Kompressionsframework tudocomp ist ein Baukasten zum passgenauen Entwerfen verlustfreier Kompressoren. Das in C++14 geschriebene Framework bietet einfache Schnittstellen\, um verschiedene Kompressoren und Kodierer nach Anwendungsfall zu kombinieren und miteinander zu vergleichen. Speziell im Bereich der Sicherung von hoch-repetitiven\, homogenen Datensätzen muss für eine Lösung dank dem Framework das Rad nicht neu erfunden werden.
URL:https://germany.acm.org/veranstaltungen/plugplay-kompressing-mit-dem-framework-tudocomp/
LOCATION:Mercure Hotel Dortmund\, Olpe 2\, Dortmund\, 44135
END:VEVENT
END:VCALENDAR