BEGIN:VCALENDAR
VERSION:2.0
PRODID:-//German Chapter of the ACM - ECPv6.15.20//NONSGML v1.0//EN
CALSCALE:GREGORIAN
METHOD:PUBLISH
X-WR-CALNAME:German Chapter of the ACM
X-ORIGINAL-URL:https://germany.acm.org
X-WR-CALDESC:Veranstaltungen für German Chapter of the ACM
REFRESH-INTERVAL;VALUE=DURATION:PT1H
X-Robots-Tag:noindex
X-PUBLISHED-TTL:PT1H
BEGIN:VTIMEZONE
TZID:Europe/Berlin
BEGIN:DAYLIGHT
TZOFFSETFROM:+0100
TZOFFSETTO:+0200
TZNAME:CEST
DTSTART:20170326T010000
END:DAYLIGHT
BEGIN:STANDARD
TZOFFSETFROM:+0200
TZOFFSETTO:+0100
TZNAME:CET
DTSTART:20171029T010000
END:STANDARD
BEGIN:DAYLIGHT
TZOFFSETFROM:+0100
TZOFFSETTO:+0200
TZNAME:CEST
DTSTART:20180325T010000
END:DAYLIGHT
BEGIN:STANDARD
TZOFFSETFROM:+0200
TZOFFSETTO:+0100
TZNAME:CET
DTSTART:20181028T010000
END:STANDARD
BEGIN:DAYLIGHT
TZOFFSETFROM:+0100
TZOFFSETTO:+0200
TZNAME:CEST
DTSTART:20190331T010000
END:DAYLIGHT
BEGIN:STANDARD
TZOFFSETFROM:+0200
TZOFFSETTO:+0100
TZNAME:CET
DTSTART:20191027T010000
END:STANDARD
END:VTIMEZONE
BEGIN:VEVENT
DTSTART;TZID=Europe/Berlin:20180816T083000
DTEND;TZID=Europe/Berlin:20180816T220000
DTSTAMP:20260421T181133
CREATED:20180622T045548Z
LAST-MODIFIED:20180622T045548Z
UID:264-1534408200-1534456800@germany.acm.org
SUMMARY:Aber ich will doch einfach nur coden ...!
DESCRIPTION:(Servant)Leadership in der IT aus der Perspektive eines Gärtners\, Referentin Cosima Laube. \nKennst Du Gedanken wie “Argh\, ein Meeting! Wie soll ich da in Ruhe coden?!” oder “Wir sollten das mal refactoren… “? Hast Du schon einmal in einer Firma gearbeitet\, wo “irgendwelche Manager” Prozesse ge-off-kickt haben – und die sind dann wild durchs Unternehmen gewuchert oder die Saat ging gar nicht auf? \nDu fühlst Dich irgendwie angesprochen? \nDann komm’ mit auf die Expedition in den (dunklen) Dschungel der professionellen IT – von Business Analyse über Coding\, von Scrum zu allem rund um Qualität und wieder zurück zum Coding. Gemeinsam entdecken wir verschiedenartige Pflanzen und begegnen allerlei ITierischem. Unser Kompass ist dabei ein wissenschaftliches Leadership-Modell. Und wir werden auch ein wenig “im Schmutz wühlen” um passende Plätze fürs gezielte Gärtnern zu finden. \nWir werden auch miteinander und voneinander lernen. Denn Du bist Teil des Workshops! Das bedeutet: es wird kurzweilig und etwas interaktiv. Lass’ Dich davon nicht abschrecken\, falls Du Dich z.B. eher zu den introvertierten Menschen zählst. Es ist für alle Platz und Raum. \nCosima Laube (@gazebo_c) studierte Informatik und Psychologie und hat mittlerweile ihren Platz “zwischen Coding und Leadership” gefunden. Zuvor arbeitete Cosima über 12 Jahre als (agile) Software-Entwicklerin und IT-Projektleiterin in verschiedenen Organisationen – vom Mittelständler in der Finanzbranche bis hin zu Konzernen im Medizin- oder Automotive-Umfeld. Heute findet man Cosima eher beim Parsen und Debuggen zwischen Technikern\, Fachspezialisten und Management sowie überall wo es sonst “menschelt”. Dabei gilt ihre ganze Leidenschaft den Menschen und einer nachhaltigen\, lösungsfokussierten Zusammenarbeit – ohne den Kontakt zur Technik zu verlieren. Obwohl Cosima eher zu den leisen\, introvertierten Menschen zählt\, trifft man sie regelmäßig auf Konferenzen\, Unkonferenzen und Meetups\, wo sie ihre Erfahrungen teilt\, selbst mit organisiert oder sich z.B. mit Sketchnotes aktiv einbringt. Als Ausgleich zu alledem schnürt Cosima gerne ihre Laufschuhe und trainiert in der Natur auf die nächste Langstrecke. \nWeitere Informationen und die Anmeldung finden Sie auf der Web-Seite der Java User Group Darmstadt. \n  \nEin Vortrag der Java User Group Darmstadt und der Regionalgruppe Rhein-Main der GI
URL:https://germany.acm.org/veranstaltungen/aber-ich-will-doch-einfach-nur-coden/
LOCATION:InteRES GmbH\, Rheinstrasse 44-46\, Darmstadt\, 64283\, Deutschland
END:VEVENT
END:VCALENDAR