BEGIN:VCALENDAR
VERSION:2.0
PRODID:-//German Chapter of the ACM - ECPv6.15.20//NONSGML v1.0//EN
CALSCALE:GREGORIAN
METHOD:PUBLISH
X-WR-CALNAME:German Chapter of the ACM
X-ORIGINAL-URL:https://germany.acm.org
X-WR-CALDESC:Veranstaltungen für German Chapter of the ACM
REFRESH-INTERVAL;VALUE=DURATION:PT1H
X-Robots-Tag:noindex
X-PUBLISHED-TTL:PT1H
BEGIN:VTIMEZONE
TZID:Europe/Berlin
BEGIN:DAYLIGHT
TZOFFSETFROM:+0100
TZOFFSETTO:+0200
TZNAME:CEST
DTSTART:20170326T010000
END:DAYLIGHT
BEGIN:STANDARD
TZOFFSETFROM:+0200
TZOFFSETTO:+0100
TZNAME:CET
DTSTART:20171029T010000
END:STANDARD
BEGIN:DAYLIGHT
TZOFFSETFROM:+0100
TZOFFSETTO:+0200
TZNAME:CEST
DTSTART:20180325T010000
END:DAYLIGHT
BEGIN:STANDARD
TZOFFSETFROM:+0200
TZOFFSETTO:+0100
TZNAME:CET
DTSTART:20181028T010000
END:STANDARD
BEGIN:DAYLIGHT
TZOFFSETFROM:+0100
TZOFFSETTO:+0200
TZNAME:CEST
DTSTART:20190331T010000
END:DAYLIGHT
BEGIN:STANDARD
TZOFFSETFROM:+0200
TZOFFSETTO:+0100
TZNAME:CET
DTSTART:20191027T010000
END:STANDARD
END:VTIMEZONE
BEGIN:VEVENT
DTSTART;VALUE=DATE:20181113
DTEND;VALUE=DATE:20181115
DTSTAMP:20260422T170443
CREATED:20180621T161600Z
LAST-MODIFIED:20180621T161600Z
UID:207-1542070800-1542157199@germany.acm.org
SUMMARY:ERP Future 2018
DESCRIPTION:Die ERP Future als Fachevent zu Enterprise Systems besteht aus verschiedenen Veranstaltungsteilen. Den Auftakt bildet der ERP Future – Summit\, in welchem Branchenexperten über aktuelle Themen diskutieren.Der Fokus der Research Konferenz liegt auf der wissenschaftlichen Auseinandersetzung mit den Themenfeldern Enterprise Resource Planning (ERP) Systeme\, Business Intelligence (BI) Systeme\, Business Process Management (BPM) Systeme und Informationssysteme. Auf der Business Fachtagung präsentieren und diskutieren führende ERP – Anbieter\, wie sie die Zukunft der ERP – Landschaft sehen und in welche Richtungen die Weiterentwicklungen ihrer ERP – Systeme sowie BI und BPM gehen.
URL:https://germany.acm.org/veranstaltungen/erp-future-2018/
LOCATION:Johannes Kepler Unversität Linz\, Altenbergerstraße 69\, Linz\, 4040\, Österreich
ATTACH;FMTTYPE=image/png:https://germany.acm.org/wp-content/uploads/2018/06/erp_würfel_2018.png
END:VEVENT
END:VCALENDAR