BEGIN:VCALENDAR
VERSION:2.0
PRODID:-//German Chapter of the ACM - ECPv6.15.20//NONSGML v1.0//EN
CALSCALE:GREGORIAN
METHOD:PUBLISH
X-WR-CALNAME:German Chapter of the ACM
X-ORIGINAL-URL:https://germany.acm.org
X-WR-CALDESC:Veranstaltungen für German Chapter of the ACM
REFRESH-INTERVAL;VALUE=DURATION:PT1H
X-Robots-Tag:noindex
X-PUBLISHED-TTL:PT1H
BEGIN:VTIMEZONE
TZID:Europe/Berlin
BEGIN:DAYLIGHT
TZOFFSETFROM:+0100
TZOFFSETTO:+0200
TZNAME:CEST
DTSTART:20170326T010000
END:DAYLIGHT
BEGIN:STANDARD
TZOFFSETFROM:+0200
TZOFFSETTO:+0100
TZNAME:CET
DTSTART:20171029T010000
END:STANDARD
BEGIN:DAYLIGHT
TZOFFSETFROM:+0100
TZOFFSETTO:+0200
TZNAME:CEST
DTSTART:20180325T010000
END:DAYLIGHT
BEGIN:STANDARD
TZOFFSETFROM:+0200
TZOFFSETTO:+0100
TZNAME:CET
DTSTART:20181028T010000
END:STANDARD
BEGIN:DAYLIGHT
TZOFFSETFROM:+0100
TZOFFSETTO:+0200
TZNAME:CEST
DTSTART:20190331T010000
END:DAYLIGHT
BEGIN:STANDARD
TZOFFSETFROM:+0200
TZOFFSETTO:+0100
TZNAME:CET
DTSTART:20191027T010000
END:STANDARD
END:VTIMEZONE
BEGIN:VEVENT
DTSTART;TZID=Europe/Berlin:20181122T180000
DTEND;TZID=Europe/Berlin:20181122T200000
DTSTAMP:20260422T050124
CREATED:20180622T053009Z
LAST-MODIFIED:20180622T053009Z
UID:301-1542909600-1542916800@germany.acm.org
SUMMARY:Hochleistungsrechner
DESCRIPTION:Auch wenn PCs und Unternehmensserver immer leistungsfähiger werden\, gibt es stets neue oder komplexere Herausforderungen in Wissenschaft und Technik\, die ein Vielfaches an Rechenleistung verlangen. Aktuelle Beispiele\, die an der Universität Paderborn erforscht werden\, sind die Steigerung des Wirkungsgrades von Solarzellen oder die Untersuchung der Lichtstreuung an Staub und Eisteilchen in der Atmosphäre und im Weltall. Um die Berechnungszeiten für solche Anwendungen im Bereich von Stunden oder Tagen zu halten\, sind Hochleistungsrechnern notwendig. Im Vortrag werden aktuelle Anwendungen von Hochleistungsrechnern\, Forschungsfragen und technologische Herausforderungen für den sicheren und effizienten Betrieb von Hochleistungsrechnern erläutert.\nReferent: Prof. Dr. Christian Plessl\, Uni. Paderborn
URL:https://germany.acm.org/veranstaltungen/hochleistungsrechner/
LOCATION:Paderborn\, HNF\, Fürstenallee 7\, Paderborn\, 33102\, Deutschland
END:VEVENT
END:VCALENDAR