BEGIN:VCALENDAR
VERSION:2.0
PRODID:-//German Chapter of the ACM - ECPv6.15.20//NONSGML v1.0//EN
CALSCALE:GREGORIAN
METHOD:PUBLISH
X-WR-CALNAME:German Chapter of the ACM
X-ORIGINAL-URL:https://germany.acm.org
X-WR-CALDESC:Veranstaltungen für German Chapter of the ACM
REFRESH-INTERVAL;VALUE=DURATION:PT1H
X-Robots-Tag:noindex
X-PUBLISHED-TTL:PT1H
BEGIN:VTIMEZONE
TZID:Europe/Berlin
BEGIN:DAYLIGHT
TZOFFSETFROM:+0100
TZOFFSETTO:+0200
TZNAME:CEST
DTSTART:20180325T010000
END:DAYLIGHT
BEGIN:STANDARD
TZOFFSETFROM:+0200
TZOFFSETTO:+0100
TZNAME:CET
DTSTART:20181028T010000
END:STANDARD
BEGIN:DAYLIGHT
TZOFFSETFROM:+0100
TZOFFSETTO:+0200
TZNAME:CEST
DTSTART:20190331T010000
END:DAYLIGHT
BEGIN:STANDARD
TZOFFSETFROM:+0200
TZOFFSETTO:+0100
TZNAME:CET
DTSTART:20191027T010000
END:STANDARD
BEGIN:DAYLIGHT
TZOFFSETFROM:+0100
TZOFFSETTO:+0200
TZNAME:CEST
DTSTART:20200329T010000
END:DAYLIGHT
BEGIN:STANDARD
TZOFFSETFROM:+0200
TZOFFSETTO:+0100
TZNAME:CET
DTSTART:20201025T010000
END:STANDARD
END:VTIMEZONE
BEGIN:VEVENT
DTSTART;TZID=Europe/Berlin:20190311T191500
DTEND;TZID=Europe/Berlin:20190311T210000
DTSTAMP:20260424T064230
CREATED:20190223T172604Z
LAST-MODIFIED:20190223T173644Z
UID:469-1552331700-1552338000@germany.acm.org
SUMMARY:Wenn Kostüme sprechen: Musterforschung in den Digital Humanities
DESCRIPTION:Vortrag „Wenn Kostüme sprechen: Musterforschung in den Digital Humanities“ von Prof. Dr. Frank Leymann und Johanna Barzen MA in der ACM/GI-Regionalgruppe Stuttgart/Böblingen
URL:https://germany.acm.org/veranstaltungen/wenn-kostueme-sprechen-musterforschung-in-den-digital-humanities/
LOCATION:Universität Stuttgart\, Campus Stuttgart-Vaihingen\, Informatikgebäude\, Universitätsstraße 38\, Stuttgart\, 70569\, Deutschland
END:VEVENT
BEGIN:VEVENT
DTSTART;TZID=Europe/Berlin:20190311T203000
DTEND;TZID=Europe/Berlin:20190311T220000
DTSTAMP:20260424T064230
CREATED:20190224T150026Z
LAST-MODIFIED:20190224T150026Z
UID:492-1552336200-1552341600@germany.acm.org
SUMMARY:Cloud-native Architekturen – Hype oder doch deutlich mehr?
DESCRIPTION:VOrtrag „Cloud-native Architekturen – Hype oder doch deutlich mehr?“ von Adam Boczek in der ACM/GI-Regionalgruppe Münchenx
URL:https://germany.acm.org/veranstaltungen/cloud-native-architekturen-hype-oder-doch-deutlich-mehr/
LOCATION:Eden Hotel Wolff\, München\, Arnulfstraße 4-8\, München\, 80335
END:VEVENT
END:VCALENDAR