BEGIN:VCALENDAR
VERSION:2.0
PRODID:-//German Chapter of the ACM - ECPv6.15.20//NONSGML v1.0//EN
CALSCALE:GREGORIAN
METHOD:PUBLISH
X-WR-CALNAME:German Chapter of the ACM
X-ORIGINAL-URL:https://germany.acm.org
X-WR-CALDESC:Veranstaltungen für German Chapter of the ACM
REFRESH-INTERVAL;VALUE=DURATION:PT1H
X-Robots-Tag:noindex
X-PUBLISHED-TTL:PT1H
BEGIN:VTIMEZONE
TZID:Europe/Berlin
BEGIN:DAYLIGHT
TZOFFSETFROM:+0100
TZOFFSETTO:+0200
TZNAME:CEST
DTSTART:20180325T010000
END:DAYLIGHT
BEGIN:STANDARD
TZOFFSETFROM:+0200
TZOFFSETTO:+0100
TZNAME:CET
DTSTART:20181028T010000
END:STANDARD
BEGIN:DAYLIGHT
TZOFFSETFROM:+0100
TZOFFSETTO:+0200
TZNAME:CEST
DTSTART:20190331T010000
END:DAYLIGHT
BEGIN:STANDARD
TZOFFSETFROM:+0200
TZOFFSETTO:+0100
TZNAME:CET
DTSTART:20191027T010000
END:STANDARD
BEGIN:DAYLIGHT
TZOFFSETFROM:+0100
TZOFFSETTO:+0200
TZNAME:CEST
DTSTART:20200329T010000
END:DAYLIGHT
BEGIN:STANDARD
TZOFFSETFROM:+0200
TZOFFSETTO:+0100
TZNAME:CET
DTSTART:20201025T010000
END:STANDARD
END:VTIMEZONE
BEGIN:VEVENT
DTSTART;TZID=Europe/Berlin:20190312T160000
DTEND;TZID=Europe/Berlin:20190312T180000
DTSTAMP:20260423T215241
CREATED:20190224T145555Z
LAST-MODIFIED:20190224T150131Z
UID:490-1552406400-1552413600@germany.acm.org
SUMMARY:Besuch des Fraunhofer IIS
DESCRIPTION:Wir besuchen das Fraunhofer-Institut für Integrierte Schaltungen IIS im Nordostpark 84 in Nürnberg. \nDer Bereich Lokalisierung und Vernetzung entwickelt drahtlose Kommunikations-\, Ortungs- und Identifikationstechnologien für vernetzte digitale Anwendungen in den Märkten Produktion\, Logistik\, Sicherheit\, Mobilität und Sport/Fitness. Data Analytics sowie sichere\, energieeffiziente Systementwicklung ergänzen das Technologieangebot. \nAm Standort in Nürnberg arbeiten derzeit ca. 200 Wissenschaftler an Anwendungen im Industrial Internet of Things\, für Industrie 4.0 sowie für vernetzte Mobilität. Mit diesen Entwicklungen können Arbeitsabläufe in der Produktion und Intralogistik effizienter gestaltet\, Produktionsdaten gesammelt und ausgewertet werden.
URL:https://germany.acm.org/veranstaltungen/besuch-des-fraunhofer-iis/
END:VEVENT
END:VCALENDAR