BEGIN:VCALENDAR
VERSION:2.0
PRODID:-//German Chapter of the ACM - ECPv6.15.20//NONSGML v1.0//EN
CALSCALE:GREGORIAN
METHOD:PUBLISH
X-WR-CALNAME:German Chapter of the ACM
X-ORIGINAL-URL:https://germany.acm.org
X-WR-CALDESC:Veranstaltungen für German Chapter of the ACM
REFRESH-INTERVAL;VALUE=DURATION:PT1H
X-Robots-Tag:noindex
X-PUBLISHED-TTL:PT1H
BEGIN:VTIMEZONE
TZID:Europe/Berlin
BEGIN:DAYLIGHT
TZOFFSETFROM:+0100
TZOFFSETTO:+0200
TZNAME:CEST
DTSTART:20180325T010000
END:DAYLIGHT
BEGIN:STANDARD
TZOFFSETFROM:+0200
TZOFFSETTO:+0100
TZNAME:CET
DTSTART:20181028T010000
END:STANDARD
BEGIN:DAYLIGHT
TZOFFSETFROM:+0100
TZOFFSETTO:+0200
TZNAME:CEST
DTSTART:20190331T010000
END:DAYLIGHT
BEGIN:STANDARD
TZOFFSETFROM:+0200
TZOFFSETTO:+0100
TZNAME:CET
DTSTART:20191027T010000
END:STANDARD
BEGIN:DAYLIGHT
TZOFFSETFROM:+0100
TZOFFSETTO:+0200
TZNAME:CEST
DTSTART:20200329T010000
END:DAYLIGHT
BEGIN:STANDARD
TZOFFSETFROM:+0200
TZOFFSETTO:+0100
TZNAME:CET
DTSTART:20201025T010000
END:STANDARD
END:VTIMEZONE
BEGIN:VEVENT
DTSTART;TZID=Europe/Berlin:20190313T103000
DTEND;TZID=Europe/Berlin:20190313T180000
DTSTAMP:20260424T031017
CREATED:20190224T153031Z
LAST-MODIFIED:20190224T153031Z
UID:497-1552473000-1552500000@germany.acm.org
SUMMARY:Software-Verlässlichkeit – entscheidender Erfolgsfaktor für Industrie 4.0 und Künstliche Intelligenz
DESCRIPTION:Konferenz „Software-Verlässlichkeit – entscheidender Erfolgsfaktor für Industrie 4.0 und Künstliche Intelligenz“ bei Fraunhofer FOKUS\, Berlin
URL:https://germany.acm.org/veranstaltungen/software-verlaesslichkeit-entscheidender-erfolgsfaktor-fuer-industrie-4-0-und-kuenstliche-intelligenz/
END:VEVENT
END:VCALENDAR