BEGIN:VCALENDAR
VERSION:2.0
PRODID:-//German Chapter of the ACM - ECPv6.15.20//NONSGML v1.0//EN
CALSCALE:GREGORIAN
METHOD:PUBLISH
X-WR-CALNAME:German Chapter of the ACM
X-ORIGINAL-URL:https://germany.acm.org
X-WR-CALDESC:Veranstaltungen für German Chapter of the ACM
REFRESH-INTERVAL;VALUE=DURATION:PT1H
X-Robots-Tag:noindex
X-PUBLISHED-TTL:PT1H
BEGIN:VTIMEZONE
TZID:Europe/Berlin
BEGIN:DAYLIGHT
TZOFFSETFROM:+0100
TZOFFSETTO:+0200
TZNAME:CEST
DTSTART:20180325T010000
END:DAYLIGHT
BEGIN:STANDARD
TZOFFSETFROM:+0200
TZOFFSETTO:+0100
TZNAME:CET
DTSTART:20181028T010000
END:STANDARD
BEGIN:DAYLIGHT
TZOFFSETFROM:+0100
TZOFFSETTO:+0200
TZNAME:CEST
DTSTART:20190331T010000
END:DAYLIGHT
BEGIN:STANDARD
TZOFFSETFROM:+0200
TZOFFSETTO:+0100
TZNAME:CET
DTSTART:20191027T010000
END:STANDARD
BEGIN:DAYLIGHT
TZOFFSETFROM:+0100
TZOFFSETTO:+0200
TZNAME:CEST
DTSTART:20200329T010000
END:DAYLIGHT
BEGIN:STANDARD
TZOFFSETFROM:+0200
TZOFFSETTO:+0100
TZNAME:CET
DTSTART:20201025T010000
END:STANDARD
END:VTIMEZONE
BEGIN:VEVENT
DTSTART;TZID=Europe/Berlin:20190323T150000
DTEND;TZID=Europe/Berlin:20190323T180000
DTSTAMP:20260425T142433
CREATED:20190224T165446Z
LAST-MODIFIED:20190224T165446Z
UID:513-1553353200-1553364000@germany.acm.org
SUMMARY:Besuch BINARIUM. Deutsches Museum der digitalen Kultur in Dortmund
DESCRIPTION:Besuch des BINARIUM. Deutsches Museum der digitalen Kultur. Der Fokus des Museums liegt auf den Heimcomputern und Spielkonsolen. Die Geräte werden im historischen Kontext präsentiert und viele davon können von den Besucher*innen ausprobiert werden. \nNach einer Ausstellungsführung durch den Museumsgründer Christian Ullenboom haben wir noch Zeit zur Diskussion und für den Austausch untereinander im Museumscafé NETZWERK. \nBitte melden Sie sich unter kudrass@sdtb.de an\, wenn Sie an der Veranstaltung teilnehmen wollen. \nAdresse: BINARIUM. Deutsches Museum der digitalen Kultur | Hülshof 28 | 44369 Dortmund
URL:https://germany.acm.org/veranstaltungen/besuch-binarium-deutsches-museum-der-digitalen-kultur-in-dortmund/
END:VEVENT
END:VCALENDAR