BEGIN:VCALENDAR
VERSION:2.0
PRODID:-//German Chapter of the ACM - ECPv6.15.20//NONSGML v1.0//EN
CALSCALE:GREGORIAN
METHOD:PUBLISH
X-WR-CALNAME:German Chapter of the ACM
X-ORIGINAL-URL:https://germany.acm.org
X-WR-CALDESC:Veranstaltungen für German Chapter of the ACM
REFRESH-INTERVAL;VALUE=DURATION:PT1H
X-Robots-Tag:noindex
X-PUBLISHED-TTL:PT1H
BEGIN:VTIMEZONE
TZID:Europe/Berlin
BEGIN:DAYLIGHT
TZOFFSETFROM:+0100
TZOFFSETTO:+0200
TZNAME:CEST
DTSTART:20180325T010000
END:DAYLIGHT
BEGIN:STANDARD
TZOFFSETFROM:+0200
TZOFFSETTO:+0100
TZNAME:CET
DTSTART:20181028T010000
END:STANDARD
BEGIN:DAYLIGHT
TZOFFSETFROM:+0100
TZOFFSETTO:+0200
TZNAME:CEST
DTSTART:20190331T010000
END:DAYLIGHT
BEGIN:STANDARD
TZOFFSETFROM:+0200
TZOFFSETTO:+0100
TZNAME:CET
DTSTART:20191027T010000
END:STANDARD
BEGIN:DAYLIGHT
TZOFFSETFROM:+0100
TZOFFSETTO:+0200
TZNAME:CEST
DTSTART:20200329T010000
END:DAYLIGHT
BEGIN:STANDARD
TZOFFSETFROM:+0200
TZOFFSETTO:+0100
TZNAME:CET
DTSTART:20201025T010000
END:STANDARD
END:VTIMEZONE
BEGIN:VEVENT
DTSTART;TZID=Europe/Berlin:20190401T201500
DTEND;TZID=Europe/Berlin:20190401T220000
DTSTAMP:20260424T031229
CREATED:20190223T173929Z
LAST-MODIFIED:20190317T183016Z
UID:477-1554149700-1554156000@germany.acm.org
SUMMARY:Deep Learning und autonomes Fahren
DESCRIPTION:Vortrag „Deep Learning und autonomes Fahren“ von Eike Rehder in der ACM/GI-Regionalgruppe Stuttgart/Böblingen
URL:https://germany.acm.org/veranstaltungen/deep-learning-und-autonomes-fahren/
LOCATION:Universität Stuttgart\, Campus Stuttgart-Vaihingen\, Informatikgebäude\, Universitätsstraße 38\, Stuttgart\, 70569\, Deutschland
END:VEVENT
END:VCALENDAR