BEGIN:VCALENDAR
VERSION:2.0
PRODID:-//German Chapter of the ACM - ECPv6.15.20//NONSGML v1.0//EN
CALSCALE:GREGORIAN
METHOD:PUBLISH
X-WR-CALNAME:German Chapter of the ACM
X-ORIGINAL-URL:https://germany.acm.org
X-WR-CALDESC:Veranstaltungen für German Chapter of the ACM
REFRESH-INTERVAL;VALUE=DURATION:PT1H
X-Robots-Tag:noindex
X-PUBLISHED-TTL:PT1H
BEGIN:VTIMEZONE
TZID:Europe/Berlin
BEGIN:DAYLIGHT
TZOFFSETFROM:+0100
TZOFFSETTO:+0200
TZNAME:CEST
DTSTART:20180325T010000
END:DAYLIGHT
BEGIN:STANDARD
TZOFFSETFROM:+0200
TZOFFSETTO:+0100
TZNAME:CET
DTSTART:20181028T010000
END:STANDARD
BEGIN:DAYLIGHT
TZOFFSETFROM:+0100
TZOFFSETTO:+0200
TZNAME:CEST
DTSTART:20190331T010000
END:DAYLIGHT
BEGIN:STANDARD
TZOFFSETFROM:+0200
TZOFFSETTO:+0100
TZNAME:CET
DTSTART:20191027T010000
END:STANDARD
BEGIN:DAYLIGHT
TZOFFSETFROM:+0100
TZOFFSETTO:+0200
TZNAME:CEST
DTSTART:20200329T010000
END:DAYLIGHT
BEGIN:STANDARD
TZOFFSETFROM:+0200
TZOFFSETTO:+0100
TZNAME:CET
DTSTART:20201025T010000
END:STANDARD
END:VTIMEZONE
BEGIN:VEVENT
DTSTART;TZID=Europe/Berlin:20190402T190000
DTEND;TZID=Europe/Berlin:20190402T210000
DTSTAMP:20260424T044544
CREATED:20190224T170119Z
LAST-MODIFIED:20190224T170119Z
UID:515-1554231600-1554238800@germany.acm.org
SUMMARY:Künstliche Intelligenz und Maschinelles Lernen
DESCRIPTION:Vortrag „Künstliche Intelligenz und Maschinelles Lernen“ von Prof. Dr. Eyke Hüllermeier in der ACM/GI-Regionalgruppe Ostwestfalen-Lippe \nDas Maschinelle Lernen (ML) hat sich in den letzten Jahren rasant entwickelt und zu signifikanten Fortschritten in der Künstlichen Intelligenz geführt. Im Rahmen des Vortrags wird auf den Wandel vom wissensbasierten Entwurfs intelligenter Systeme zu stärker datengetriebene\, ML-basierte Ansätze eingegangenn. Anhand aktueller Beispiele werden neben Vorteilen und Potenzialen maschineller Lernverfahren auch Grenzen und Probleme des Maschinellen Lernens aufgezeigt. Dabei wird auch auf die wachsende gesellschaftliche Relevanz der KI und entsprechende Implikationen für die Forschung eingegangen.
URL:https://germany.acm.org/veranstaltungen/kuenstliche-intelligenz-und-maschinelles-lernen/
LOCATION:Paderborn\, HNF\, Fürstenallee 7\, Paderborn\, 33102\, Deutschland
END:VEVENT
BEGIN:VEVENT
DTSTART;TZID=Europe/Berlin:20190402T190000
DTEND;TZID=Europe/Berlin:20190402T210000
DTSTAMP:20260424T044544
CREATED:20190317T190444Z
LAST-MODIFIED:20190317T190444Z
UID:559-1554231600-1554238800@germany.acm.org
SUMMARY:Künstliche Intelligenz und Maschinelles Lernen
DESCRIPTION:Vortrag „Künstliche Intelligenz und Maschinelles Lernen “ von Prof. Dr. Eyke Hüllermeier im Rahmen der ACM/GI-Regionalgruppe Ostwestfalen/Lippe
URL:https://germany.acm.org/veranstaltungen/kuenstliche-intelligenz-und-maschinelles-lernen-2/
LOCATION:Paderborn\, HNF\, Fürstenallee 7\, Paderborn\, 33102\, Deutschland
END:VEVENT
BEGIN:VEVENT
DTSTART;TZID=Europe/Berlin:20190402T200000
DTEND;TZID=Europe/Berlin:20190402T220000
DTSTAMP:20260424T044544
CREATED:20190224T154941Z
LAST-MODIFIED:20190224T154941Z
UID:507-1554235200-1554242400@germany.acm.org
SUMMARY:Machine Learning and AI at Google - an Overview
DESCRIPTION:Vortrag „Machine Learning and AI at Google – an Overview“ von Dirk Primbs in der ACM/GI-Regionalgruppe Rhein-Main
URL:https://germany.acm.org/veranstaltungen/machine-learning-and-ai-at-google-an-overview/
LOCATION:Frankfurt University of Applied Sciences\, Nibelungenplatz 1\, Frankfurt am Main\, 60318\, Deutschland
END:VEVENT
END:VCALENDAR