BEGIN:VCALENDAR
VERSION:2.0
PRODID:-//German Chapter of the ACM - ECPv6.15.20//NONSGML v1.0//EN
CALSCALE:GREGORIAN
METHOD:PUBLISH
X-ORIGINAL-URL:https://germany.acm.org
X-WR-CALDESC:Veranstaltungen für German Chapter of the ACM
REFRESH-INTERVAL;VALUE=DURATION:PT1H
X-Robots-Tag:noindex
X-PUBLISHED-TTL:PT1H
BEGIN:VTIMEZONE
TZID:Europe/Berlin
BEGIN:DAYLIGHT
TZOFFSETFROM:+0100
TZOFFSETTO:+0200
TZNAME:CEST
DTSTART:20180325T010000
END:DAYLIGHT
BEGIN:STANDARD
TZOFFSETFROM:+0200
TZOFFSETTO:+0100
TZNAME:CET
DTSTART:20181028T010000
END:STANDARD
BEGIN:DAYLIGHT
TZOFFSETFROM:+0100
TZOFFSETTO:+0200
TZNAME:CEST
DTSTART:20190331T010000
END:DAYLIGHT
BEGIN:STANDARD
TZOFFSETFROM:+0200
TZOFFSETTO:+0100
TZNAME:CET
DTSTART:20191027T010000
END:STANDARD
BEGIN:DAYLIGHT
TZOFFSETFROM:+0100
TZOFFSETTO:+0200
TZNAME:CEST
DTSTART:20200329T010000
END:DAYLIGHT
BEGIN:STANDARD
TZOFFSETFROM:+0200
TZOFFSETTO:+0100
TZNAME:CET
DTSTART:20201025T010000
END:STANDARD
END:VTIMEZONE
BEGIN:VEVENT
DTSTART;TZID=Europe/Berlin:20190408T163000
DTEND;TZID=Europe/Berlin:20190408T181500
DTSTAMP:20260425T193747
CREATED:20190224T171527Z
LAST-MODIFIED:20190224T171527Z
UID:517-1554741000-1554747300@germany.acm.org
SUMMARY:Workshop des Fördervereins der Fakultät für Informatik und Automatisierung: Schwerpunktthema: Hochautomatisiertes/autonomes Fahren
DESCRIPTION:Workshop des Fördervereins der Fakultät für Informatik und Automatisierung: Schwerpunktthema: Hochautomatisiertes/autonomes Fahren
URL:https://germany.acm.org/veranstaltungen/workshop-des-foerdervereins-der-fakultaet-fuer-informatik-und-automatisierung-schwerpunktthema-hochautomatisiertes-autonomes-fahren/
END:VEVENT
END:VCALENDAR