BEGIN:VCALENDAR
VERSION:2.0
PRODID:-//German Chapter of the ACM - ECPv6.15.20//NONSGML v1.0//EN
CALSCALE:GREGORIAN
METHOD:PUBLISH
X-WR-CALNAME:German Chapter of the ACM
X-ORIGINAL-URL:https://germany.acm.org
X-WR-CALDESC:Veranstaltungen für German Chapter of the ACM
REFRESH-INTERVAL;VALUE=DURATION:PT1H
X-Robots-Tag:noindex
X-PUBLISHED-TTL:PT1H
BEGIN:VTIMEZONE
TZID:Europe/Berlin
BEGIN:DAYLIGHT
TZOFFSETFROM:+0100
TZOFFSETTO:+0200
TZNAME:CEST
DTSTART:20180325T010000
END:DAYLIGHT
BEGIN:STANDARD
TZOFFSETFROM:+0200
TZOFFSETTO:+0100
TZNAME:CET
DTSTART:20181028T010000
END:STANDARD
BEGIN:DAYLIGHT
TZOFFSETFROM:+0100
TZOFFSETTO:+0200
TZNAME:CEST
DTSTART:20190331T010000
END:DAYLIGHT
BEGIN:STANDARD
TZOFFSETFROM:+0200
TZOFFSETTO:+0100
TZNAME:CET
DTSTART:20191027T010000
END:STANDARD
BEGIN:DAYLIGHT
TZOFFSETFROM:+0100
TZOFFSETTO:+0200
TZNAME:CEST
DTSTART:20200329T010000
END:DAYLIGHT
BEGIN:STANDARD
TZOFFSETFROM:+0200
TZOFFSETTO:+0100
TZNAME:CET
DTSTART:20201025T010000
END:STANDARD
END:VTIMEZONE
BEGIN:VEVENT
DTSTART;TZID=Europe/Berlin:20190607T200000
DTEND;TZID=Europe/Berlin:20190607T220000
DTSTAMP:20260422T071320
CREATED:20190519T091549Z
LAST-MODIFIED:20190519T091549Z
UID:612-1559937600-1559944800@germany.acm.org
SUMMARY:AK „Softskills REquiREd“ (20.Treffen): Innovationsmanagement - von der Idee bis zur Umsetzung
DESCRIPTION:AK „Softskills REquiREd“ (20.Treffen): Innovationsmanagement – von der Idee bis zur Umsetzung\nveranstaltet von der ACM/GI-Regionalgruppe Stuttgart/ Böblingen und GI-Fachgruppe Requirements Engineering
URL:https://germany.acm.org/veranstaltungen/ak-softskills-required-20-treffen-innovationsmanagement-von-der-idee-bis-zur-umsetzung/
LOCATION:Forum 3\, Stuttgart\, Gymnasiumstraße 21\, Stuttgart\, 70173\, Deutschland
END:VEVENT
END:VCALENDAR