BEGIN:VCALENDAR
VERSION:2.0
PRODID:-//German Chapter of the ACM - ECPv6.15.20//NONSGML v1.0//EN
CALSCALE:GREGORIAN
METHOD:PUBLISH
X-ORIGINAL-URL:https://germany.acm.org
X-WR-CALDESC:Veranstaltungen für German Chapter of the ACM
REFRESH-INTERVAL;VALUE=DURATION:PT1H
X-Robots-Tag:noindex
X-PUBLISHED-TTL:PT1H
BEGIN:VTIMEZONE
TZID:Europe/Berlin
BEGIN:DAYLIGHT
TZOFFSETFROM:+0100
TZOFFSETTO:+0200
TZNAME:CEST
DTSTART:20180325T010000
END:DAYLIGHT
BEGIN:STANDARD
TZOFFSETFROM:+0200
TZOFFSETTO:+0100
TZNAME:CET
DTSTART:20181028T010000
END:STANDARD
BEGIN:DAYLIGHT
TZOFFSETFROM:+0100
TZOFFSETTO:+0200
TZNAME:CEST
DTSTART:20190331T010000
END:DAYLIGHT
BEGIN:STANDARD
TZOFFSETFROM:+0200
TZOFFSETTO:+0100
TZNAME:CET
DTSTART:20191027T010000
END:STANDARD
BEGIN:DAYLIGHT
TZOFFSETFROM:+0100
TZOFFSETTO:+0200
TZNAME:CEST
DTSTART:20200329T010000
END:DAYLIGHT
BEGIN:STANDARD
TZOFFSETFROM:+0200
TZOFFSETTO:+0100
TZNAME:CET
DTSTART:20201025T010000
END:STANDARD
END:VTIMEZONE
BEGIN:VEVENT
DTSTART;TZID=Europe/Berlin:20191112T191500
DTEND;TZID=Europe/Berlin:20191112T210000
DTSTAMP:20260426T021811
CREATED:20191102T122647Z
LAST-MODIFIED:20191102T122647Z
UID:737-1573586100-1573592400@germany.acm.org
SUMMARY:Wie kann Software die Zukunft besser machen?
DESCRIPTION:Wie kann Software die Zukunft besser machen?\nVortrag im Rahmen der ACM/GI-Regionalgruppe Stuttgart/Böblingen\nim\nInternationalen Begegnungszentrum der Universität Stuttgart (Eulenhof)\nRobert-Leicht-Str. 161\n70569 Stuttgart
URL:https://germany.acm.org/veranstaltungen/wie-kann-software-die-zukunft-besser-machen/
END:VEVENT
END:VCALENDAR