BEGIN:VCALENDAR
VERSION:2.0
PRODID:-//German Chapter of the ACM - ECPv6.15.20//NONSGML v1.0//EN
CALSCALE:GREGORIAN
METHOD:PUBLISH
X-WR-CALNAME:German Chapter of the ACM
X-ORIGINAL-URL:https://germany.acm.org
X-WR-CALDESC:Veranstaltungen für German Chapter of the ACM
REFRESH-INTERVAL;VALUE=DURATION:PT1H
X-Robots-Tag:noindex
X-PUBLISHED-TTL:PT1H
BEGIN:VTIMEZONE
TZID:Europe/Berlin
BEGIN:DAYLIGHT
TZOFFSETFROM:+0100
TZOFFSETTO:+0200
TZNAME:CEST
DTSTART:20180325T010000
END:DAYLIGHT
BEGIN:STANDARD
TZOFFSETFROM:+0200
TZOFFSETTO:+0100
TZNAME:CET
DTSTART:20181028T010000
END:STANDARD
BEGIN:DAYLIGHT
TZOFFSETFROM:+0100
TZOFFSETTO:+0200
TZNAME:CEST
DTSTART:20190331T010000
END:DAYLIGHT
BEGIN:STANDARD
TZOFFSETFROM:+0200
TZOFFSETTO:+0100
TZNAME:CET
DTSTART:20191027T010000
END:STANDARD
BEGIN:DAYLIGHT
TZOFFSETFROM:+0100
TZOFFSETTO:+0200
TZNAME:CEST
DTSTART:20200329T010000
END:DAYLIGHT
BEGIN:STANDARD
TZOFFSETFROM:+0200
TZOFFSETTO:+0100
TZNAME:CET
DTSTART:20201025T010000
END:STANDARD
END:VTIMEZONE
BEGIN:VEVENT
DTSTART;TZID=Europe/Berlin:20191115T150000
DTEND;TZID=Europe/Berlin:20191116T183000
DTSTAMP:20260423T201650
CREATED:20191102T123327Z
LAST-MODIFIED:20191102T123327Z
UID:739-1573830000-1573929000@germany.acm.org
SUMMARY:Arbeit 4.0 - Kollege KI (Stuttgarter Zukunftssymposium Ethik und KI)
DESCRIPTION:Arbeit 4.0 – Kollege KI (Stuttgarter Zukunftssymposium Ethik und KI)\nim\nHaus der Wirtschaft\nWilli-Bleicher-Straße 19\n70174 Stuttgart\, Deutschland  \nProgramm: https://stuttgarter-zukunftssymposium.de/wp-content/uploads/2019/09/Programm-Flyer.pdf \nAnmeldung: https://stuttgarter-zukunftssymposium.de/anmelden \nErmäßigter Tagungsbeitrag für Mitglieder des German Chapter of the ACM
URL:https://germany.acm.org/veranstaltungen/arbeit-4-0-kollege-ki-stuttgarter-zukunftssymposium-ethik-und-ki/
END:VEVENT
END:VCALENDAR