BEGIN:VCALENDAR
VERSION:2.0
PRODID:-//German Chapter of the ACM - ECPv6.15.20//NONSGML v1.0//EN
CALSCALE:GREGORIAN
METHOD:PUBLISH
X-WR-CALNAME:German Chapter of the ACM
X-ORIGINAL-URL:https://germany.acm.org
X-WR-CALDESC:Veranstaltungen für German Chapter of the ACM
REFRESH-INTERVAL;VALUE=DURATION:PT1H
X-Robots-Tag:noindex
X-PUBLISHED-TTL:PT1H
BEGIN:VTIMEZONE
TZID:Europe/Berlin
BEGIN:DAYLIGHT
TZOFFSETFROM:+0100
TZOFFSETTO:+0200
TZNAME:CEST
DTSTART:20200329T010000
END:DAYLIGHT
BEGIN:STANDARD
TZOFFSETFROM:+0200
TZOFFSETTO:+0100
TZNAME:CET
DTSTART:20201025T010000
END:STANDARD
BEGIN:DAYLIGHT
TZOFFSETFROM:+0100
TZOFFSETTO:+0200
TZNAME:CEST
DTSTART:20210328T010000
END:DAYLIGHT
BEGIN:STANDARD
TZOFFSETFROM:+0200
TZOFFSETTO:+0100
TZNAME:CET
DTSTART:20211031T010000
END:STANDARD
BEGIN:DAYLIGHT
TZOFFSETFROM:+0100
TZOFFSETTO:+0200
TZNAME:CEST
DTSTART:20220327T010000
END:DAYLIGHT
BEGIN:STANDARD
TZOFFSETFROM:+0200
TZOFFSETTO:+0100
TZNAME:CET
DTSTART:20221030T010000
END:STANDARD
END:VTIMEZONE
BEGIN:VEVENT
DTSTART;TZID=Europe/Berlin:20210601T200000
DTEND;TZID=Europe/Berlin:20210601T213000
DTSTAMP:20260424T054058
CREATED:20210515T125221Z
LAST-MODIFIED:20210515T125221Z
UID:899-1622577600-1622583000@germany.acm.org
SUMMARY:Best Practices - Outsourcing in die Public Cloud
DESCRIPTION:In diesem Webinar lernen Sie die Bausteine eines Cloud-Sicherheitsmodells kennen und erfahren\, wie Unternehmen ihre Sicherheitsbedürfnisse durch die Nutzung von Amazon Web Services (AWS) -Produkten erreichen können und wie sie Datenschutzkompliant bleiben.\nWir behandeln allgemeine Fragen zu Datenschutz\, Datenresidenz\, Informationsfreiheit und Zugang zu Daten. Erfahren Sie welche Best Practices auf AWS sich am besten eignen und wie daraus ein Datenschutz- oder Sicherheitskonzepte entsteht. \nDie Themen sind: \n    AWS-Security- und Compliance-Grundlagen\n    Einhaltung der DSGVO in der Public Cloud\n    Blick auf den Effekt von SchremsII und dem CLOUD Act\n    technische best practices\n    Informationsanfragen an AWS \nAbschluss in einer offene Fragerunde. \n Die Veranstaltung findet online unter folgender URL statt:  https://www.gotomeet.me/avi100/gi-rg-mittelfranken\nFalls Sie die App für GoTo Meeting installieren möchten: https://global.gotomeeting.com/install/193736717\nAlternativ können Sie auch per Telefon teilnehmen: Deutschland: +49 721 6059 6510  Zugangscode: 193-736-717 \nReferent:\nGerald Boyne\, Regional Leader\, Security &Compliance\, Business Acceleration – DACH\, Amazon Web Services EMEA\nKontakt \nRegionalgruppe Mittelfranken \nNachricht senden
URL:https://germany.acm.org/veranstaltungen/best-practices-outsourcing-in-die-public-cloud/
END:VEVENT
END:VCALENDAR