BEGIN:VCALENDAR
VERSION:2.0
PRODID:-//German Chapter of the ACM - ECPv6.15.20//NONSGML v1.0//EN
CALSCALE:GREGORIAN
METHOD:PUBLISH
X-WR-CALNAME:German Chapter of the ACM
X-ORIGINAL-URL:https://germany.acm.org
X-WR-CALDESC:Veranstaltungen für German Chapter of the ACM
REFRESH-INTERVAL;VALUE=DURATION:PT1H
X-Robots-Tag:noindex
X-PUBLISHED-TTL:PT1H
BEGIN:VTIMEZONE
TZID:Europe/Berlin
BEGIN:DAYLIGHT
TZOFFSETFROM:+0100
TZOFFSETTO:+0200
TZNAME:CEST
DTSTART:20200329T010000
END:DAYLIGHT
BEGIN:STANDARD
TZOFFSETFROM:+0200
TZOFFSETTO:+0100
TZNAME:CET
DTSTART:20201025T010000
END:STANDARD
BEGIN:DAYLIGHT
TZOFFSETFROM:+0100
TZOFFSETTO:+0200
TZNAME:CEST
DTSTART:20210328T010000
END:DAYLIGHT
BEGIN:STANDARD
TZOFFSETFROM:+0200
TZOFFSETTO:+0100
TZNAME:CET
DTSTART:20211031T010000
END:STANDARD
BEGIN:DAYLIGHT
TZOFFSETFROM:+0100
TZOFFSETTO:+0200
TZNAME:CEST
DTSTART:20220327T010000
END:DAYLIGHT
BEGIN:STANDARD
TZOFFSETFROM:+0200
TZOFFSETTO:+0100
TZNAME:CET
DTSTART:20221030T010000
END:STANDARD
END:VTIMEZONE
BEGIN:VEVENT
DTSTART;VALUE=DATE:20210920
DTEND;VALUE=DATE:20210923
DTSTAMP:20260424T162626
CREATED:20210822T172904Z
LAST-MODIFIED:20210822T172904Z
UID:954-1632103200-1632275999@germany.acm.org
SUMMARY:ERP Future 2021
DESCRIPTION:ERP Future – Business findet am 21.9.2021 in Dornbirn statt. \nDas Seminar richtet sich an Personen\, die in ihrem Unternehmen Enterprise Systems auswählen und einführen bzw. über Enterprise Systems-Investitionen entscheiden.  \nDas Seminar findet am Vortag der ERP Future – Business\, am Montag\, dem 20.09.2021\, von 16 – 18 Uhr\, statt.
URL:https://germany.acm.org/veranstaltungen/erp-future-2021/
END:VEVENT
BEGIN:VEVENT
DTSTART;TZID=Europe/Berlin:20210921T200000
DTEND;TZID=Europe/Berlin:20210921T211500
DTSTAMP:20260424T162626
CREATED:20210725T163009Z
LAST-MODIFIED:20210725T163009Z
UID:929-1632254400-1632258900@germany.acm.org
SUMMARY:Reality Revolution! Wie disruptiv ist Augmented Reality?
DESCRIPTION:Wenn Sie diesen Text lesen\, schauen Sie sicherlich auf einen PC-Monitor\, Laptop oder Ihr Smartphone. Schon in Kürze könnten diese Dinge überflüssig sein und durch Hologramme in Augmented Reality (AR) ersetzt werden. Erste Produkte und Ankündigungen von Apple\, Microsoft\, Google und Co. deuten bereits heute darauf hin\, dass z.B. holographische Werbebanner im eigenen Garten und ähnliche Szenarien nicht unrealistisch sind. Wagen Sie mit uns einen Blick in die Zukunft\, wie AR Geschäftsmodelle und die Gesellschaft als Ganzes beeinflussen kann.
URL:https://germany.acm.org/veranstaltungen/reality-revolution-wie-disruptiv-ist-augmented-reality/
END:VEVENT
END:VCALENDAR