BEGIN:VCALENDAR
VERSION:2.0
PRODID:-//German Chapter of the ACM - ECPv6.15.20//NONSGML v1.0//EN
CALSCALE:GREGORIAN
METHOD:PUBLISH
X-WR-CALNAME:German Chapter of the ACM
X-ORIGINAL-URL:https://germany.acm.org
X-WR-CALDESC:Veranstaltungen für German Chapter of the ACM
REFRESH-INTERVAL;VALUE=DURATION:PT1H
X-Robots-Tag:noindex
X-PUBLISHED-TTL:PT1H
BEGIN:VTIMEZONE
TZID:Europe/Berlin
BEGIN:DAYLIGHT
TZOFFSETFROM:+0100
TZOFFSETTO:+0200
TZNAME:CEST
DTSTART:20200329T010000
END:DAYLIGHT
BEGIN:STANDARD
TZOFFSETFROM:+0200
TZOFFSETTO:+0100
TZNAME:CET
DTSTART:20201025T010000
END:STANDARD
BEGIN:DAYLIGHT
TZOFFSETFROM:+0100
TZOFFSETTO:+0200
TZNAME:CEST
DTSTART:20210328T010000
END:DAYLIGHT
BEGIN:STANDARD
TZOFFSETFROM:+0200
TZOFFSETTO:+0100
TZNAME:CET
DTSTART:20211031T010000
END:STANDARD
BEGIN:DAYLIGHT
TZOFFSETFROM:+0100
TZOFFSETTO:+0200
TZNAME:CEST
DTSTART:20220327T010000
END:DAYLIGHT
BEGIN:STANDARD
TZOFFSETFROM:+0200
TZOFFSETTO:+0100
TZNAME:CET
DTSTART:20221030T010000
END:STANDARD
END:VTIMEZONE
BEGIN:VEVENT
DTSTART;TZID=Europe/Berlin:20211117T200000
DTEND;TZID=Europe/Berlin:20211117T213000
DTSTAMP:20260424T014743
CREATED:20210822T172411Z
LAST-MODIFIED:20210822T172411Z
UID:952-1637179200-1637184600@germany.acm.org
SUMMARY:Osterfeld for Future
DESCRIPTION:Thema wird noch bekanntgegeben. \nDie Reihe „Osterfeld for Future“ wird unterstützt durch die Integrata Stiftung Tübingen und durch das German Chapter of the ACM.
URL:https://germany.acm.org/veranstaltungen/osterfeld-for-future/
END:VEVENT
END:VCALENDAR