BEGIN:VCALENDAR
VERSION:2.0
PRODID:-//German Chapter of the ACM - ECPv6.15.20//NONSGML v1.0//EN
CALSCALE:GREGORIAN
METHOD:PUBLISH
X-WR-CALNAME:German Chapter of the ACM
X-ORIGINAL-URL:https://germany.acm.org
X-WR-CALDESC:Veranstaltungen für German Chapter of the ACM
REFRESH-INTERVAL;VALUE=DURATION:PT1H
X-Robots-Tag:noindex
X-PUBLISHED-TTL:PT1H
BEGIN:VTIMEZONE
TZID:Europe/Berlin
BEGIN:DAYLIGHT
TZOFFSETFROM:+0100
TZOFFSETTO:+0200
TZNAME:CEST
DTSTART:20200329T010000
END:DAYLIGHT
BEGIN:STANDARD
TZOFFSETFROM:+0200
TZOFFSETTO:+0100
TZNAME:CET
DTSTART:20201025T010000
END:STANDARD
BEGIN:DAYLIGHT
TZOFFSETFROM:+0100
TZOFFSETTO:+0200
TZNAME:CEST
DTSTART:20210328T010000
END:DAYLIGHT
BEGIN:STANDARD
TZOFFSETFROM:+0200
TZOFFSETTO:+0100
TZNAME:CET
DTSTART:20211031T010000
END:STANDARD
BEGIN:DAYLIGHT
TZOFFSETFROM:+0100
TZOFFSETTO:+0200
TZNAME:CEST
DTSTART:20220327T010000
END:DAYLIGHT
BEGIN:STANDARD
TZOFFSETFROM:+0200
TZOFFSETTO:+0100
TZNAME:CET
DTSTART:20221030T010000
END:STANDARD
END:VTIMEZONE
BEGIN:VEVENT
DTSTART;VALUE=DATE:20211129
DTEND;VALUE=DATE:20211205
DTSTAMP:20260423T225956
CREATED:20211118T071350Z
LAST-MODIFIED:20211118T071350Z
UID:996-1638147600-1638579599@germany.acm.org
SUMMARY:[future-iot.org] Intensivwoche "IoT meets Cyber and Security" mit vielen kostenlosen online Vorträgen
DESCRIPTION:************************** 4th edition of the Future-IoT PhD school series “IoT meets Cyber and Security“** 29.11.-3.12.2021 in Rennes\, France. ** With keynotes and hands-on sessions from Siemens\, Airbus\, Celonis and many more.** On-Site (recommended) and online (reduced) participation possible. ** More info and registration:**** https://school.future-iot.org/************************The German-French Academy for the Industry of the Future and the chaire Cyber CNI in collaboration with the OCIF team\, the IRISA lab and many more organize the 4th Future-IoT PhD school – this time a winter school. The school is under the motto “IoT meets Cyber”. So it is about software and algorithms in the Internet of Things and Cyber-Physical systems.The 4th Future-IoT winter school takes place from Nov 29-Dec 3\, 2021 in Rennes\, France. The event will be hybrid\, on-site\, via zoom\, and via YouTube and LinkedIN. Please inform your friends and check the program at https://school.future-iot.org/. We look forward to welcoming you!This year’s edition focuses on different aspects of the software cyberspace – the algorithms that move the things around us -\, including cybersecurity. Software drives the critical infrastructures around us\, such as water and energy supply\, communication\, transportation\, banking\, manufacturing and health services.The 4th Future-IoT school takes place in Rennes\, only 1\,5h by train from Paris. The city and the added value of the on-site participation with the hackathon with people on-site\, much better networking\, and last but not least the opportunity to getting to know the city make this the best option. At the same time\, you can also interactively participate and network via zoom\, or you jus follow and interact over YouTube and LinkedIN.Please inform your friends about the event and participate yourself! On-site for the full experience\, via Zoom for half of the experience\, and via YouTube and LinkedIN for the keynotes only.We are looking forward to welcoming you in Rennes!– Program: https://school.future-iot.org/– Registration: https://school.future-iot.org/register– Impressions from 2020: https://future-iot.org/category/2020iotmeetssecurity/– Impressions from 2019: https://future-iot.org/category/2019iotmeetsai/
URL:https://germany.acm.org/veranstaltungen/future-iot-org-intensivwoche-iot-meets-cyber-and-security-mit-vielen-kostenlosen-online-vortraegen/
LOCATION:YouTube
ORGANIZER;CN="German Chapter of the ACM":MAILTO:secretary@informatik.org
END:VEVENT
END:VCALENDAR