BEGIN:VCALENDAR
VERSION:2.0
PRODID:-//German Chapter of the ACM - ECPv6.15.20//NONSGML v1.0//EN
CALSCALE:GREGORIAN
METHOD:PUBLISH
X-WR-CALNAME:German Chapter of the ACM
X-ORIGINAL-URL:https://germany.acm.org
X-WR-CALDESC:Veranstaltungen für German Chapter of the ACM
REFRESH-INTERVAL;VALUE=DURATION:PT1H
X-Robots-Tag:noindex
X-PUBLISHED-TTL:PT1H
BEGIN:VTIMEZONE
TZID:Europe/Berlin
BEGIN:DAYLIGHT
TZOFFSETFROM:+0100
TZOFFSETTO:+0200
TZNAME:CEST
DTSTART:20200329T010000
END:DAYLIGHT
BEGIN:STANDARD
TZOFFSETFROM:+0200
TZOFFSETTO:+0100
TZNAME:CET
DTSTART:20201025T010000
END:STANDARD
BEGIN:DAYLIGHT
TZOFFSETFROM:+0100
TZOFFSETTO:+0200
TZNAME:CEST
DTSTART:20210328T010000
END:DAYLIGHT
BEGIN:STANDARD
TZOFFSETFROM:+0200
TZOFFSETTO:+0100
TZNAME:CET
DTSTART:20211031T010000
END:STANDARD
BEGIN:DAYLIGHT
TZOFFSETFROM:+0100
TZOFFSETTO:+0200
TZNAME:CEST
DTSTART:20220327T010000
END:DAYLIGHT
BEGIN:STANDARD
TZOFFSETFROM:+0200
TZOFFSETTO:+0100
TZNAME:CET
DTSTART:20221030T010000
END:STANDARD
BEGIN:DAYLIGHT
TZOFFSETFROM:+0100
TZOFFSETTO:+0200
TZNAME:CEST
DTSTART:20230326T010000
END:DAYLIGHT
BEGIN:STANDARD
TZOFFSETFROM:+0200
TZOFFSETTO:+0100
TZNAME:CET
DTSTART:20231029T010000
END:STANDARD
END:VTIMEZONE
BEGIN:VEVENT
DTSTART;TZID=Europe/Berlin:20211226T190000
DTEND;TZID=Europe/Berlin:20220321T200000
DTSTAMP:20260423T200840
CREATED:20211226T181048Z
LAST-MODIFIED:20211226T181048Z
UID:1029-1640545200-1647892800@germany.acm.org
SUMMARY:Betreutes Denken? Vorschläge zur Zukunft der Meinungsfreiheit
DESCRIPTION:Weiter geht es beim Stuttgarter Zukunftskongress mit jeweils einstündigen Online-Workshops im 14-tägigen Rhythmus zu unterschiedlichen Aspekten rund um das Thema „Bildung und KI“ (jeweils 18-19 Uhr). \nDer sechste Workshop beleuchtet das Thema „Betreutes Denken? Vorschläge zur Zukunft der Meinungsfreiheit“.  Peder Iblher\, Giordano-Bruno-Stiftung\, stellt hierzu Beispiele und konkrete Vorschläge zur Diskussion. \nHier geht es zur Anmeldung: https://integrata-stiftung.de/veranstaltungen/euki/kongress2021/
URL:https://germany.acm.org/veranstaltungen/betreutes-denken-vorschlaege-zur-zukunft-der-meinungsfreiheit/
LOCATION:Online
ORGANIZER;CN="German Chapter of the ACM":MAILTO:secretary@informatik.org
END:VEVENT
END:VCALENDAR