BEGIN:VCALENDAR
VERSION:2.0
PRODID:-//German Chapter of the ACM - ECPv6.15.20//NONSGML v1.0//EN
CALSCALE:GREGORIAN
METHOD:PUBLISH
X-WR-CALNAME:German Chapter of the ACM
X-ORIGINAL-URL:https://germany.acm.org
X-WR-CALDESC:Veranstaltungen für German Chapter of the ACM
REFRESH-INTERVAL;VALUE=DURATION:PT1H
X-Robots-Tag:noindex
X-PUBLISHED-TTL:PT1H
BEGIN:VTIMEZONE
TZID:Europe/Berlin
BEGIN:DAYLIGHT
TZOFFSETFROM:+0100
TZOFFSETTO:+0200
TZNAME:CEST
DTSTART:20210328T010000
END:DAYLIGHT
BEGIN:STANDARD
TZOFFSETFROM:+0200
TZOFFSETTO:+0100
TZNAME:CET
DTSTART:20211031T010000
END:STANDARD
BEGIN:DAYLIGHT
TZOFFSETFROM:+0100
TZOFFSETTO:+0200
TZNAME:CEST
DTSTART:20220327T010000
END:DAYLIGHT
BEGIN:STANDARD
TZOFFSETFROM:+0200
TZOFFSETTO:+0100
TZNAME:CET
DTSTART:20221030T010000
END:STANDARD
BEGIN:DAYLIGHT
TZOFFSETFROM:+0100
TZOFFSETTO:+0200
TZNAME:CEST
DTSTART:20230326T010000
END:DAYLIGHT
BEGIN:STANDARD
TZOFFSETFROM:+0200
TZOFFSETTO:+0100
TZNAME:CET
DTSTART:20231029T010000
END:STANDARD
END:VTIMEZONE
BEGIN:VEVENT
DTSTART;VALUE=DATE:20220405
DTEND;VALUE=DATE:20220410
DTSTAMP:20260423T205524
CREATED:20220403T164227Z
LAST-MODIFIED:20220403T164227Z
UID:1068-1649124000-1649469599@germany.acm.org
SUMMARY:Partner-Event: Sicherheit 2022
DESCRIPTION:Die „Sicherheit“ ist die regelmäßig stattfindende Fachtagung des Fachbereichs ”Sicherheit – Schutz und Zuverlässigkeit” der Gesellschaft für Informatik e.V. Sie bietet einem Publikum aus Forschung\, Entwicklung und Anwendung ein Forum zur Diskussion von Herausforderungen\, Trends\, Techniken und neuesten wissenschaftlichen und industriellen Ergebnissen. Die Tagung deckt alle Aspekte der Sicherheit informationstechnischer Systeme ab und versucht eine Brücke zwischen den Themen IT Security\, Safety und Dependability zu bilden. \nDie Konferenz wird von 5. bis 8. April 2022 stattfinden und auch dieses Mal wird das Programm Beiträge aus drei unterschiedlichen Kategorien umfassen: \n    Wissenschaftliche Beiträge\n    Practitioners Track\n    Doktorandenforum \nWir freuen uns auf viele Einreichungen und eine spannende Fachtagung 2022.
URL:https://germany.acm.org/veranstaltungen/partner-event-sicherheit-2022/
END:VEVENT
END:VCALENDAR