BEGIN:VCALENDAR
VERSION:2.0
PRODID:-//German Chapter of the ACM - ECPv6.15.20//NONSGML v1.0//EN
CALSCALE:GREGORIAN
METHOD:PUBLISH
X-WR-CALNAME:German Chapter of the ACM
X-ORIGINAL-URL:https://germany.acm.org
X-WR-CALDESC:Veranstaltungen für German Chapter of the ACM
REFRESH-INTERVAL;VALUE=DURATION:PT1H
X-Robots-Tag:noindex
X-PUBLISHED-TTL:PT1H
BEGIN:VTIMEZONE
TZID:Europe/Berlin
BEGIN:DAYLIGHT
TZOFFSETFROM:+0100
TZOFFSETTO:+0200
TZNAME:CEST
DTSTART:20210328T010000
END:DAYLIGHT
BEGIN:STANDARD
TZOFFSETFROM:+0200
TZOFFSETTO:+0100
TZNAME:CET
DTSTART:20211031T010000
END:STANDARD
BEGIN:DAYLIGHT
TZOFFSETFROM:+0100
TZOFFSETTO:+0200
TZNAME:CEST
DTSTART:20220327T010000
END:DAYLIGHT
BEGIN:STANDARD
TZOFFSETFROM:+0200
TZOFFSETTO:+0100
TZNAME:CET
DTSTART:20221030T010000
END:STANDARD
BEGIN:DAYLIGHT
TZOFFSETFROM:+0100
TZOFFSETTO:+0200
TZNAME:CEST
DTSTART:20230326T010000
END:DAYLIGHT
BEGIN:STANDARD
TZOFFSETFROM:+0200
TZOFFSETTO:+0100
TZNAME:CET
DTSTART:20231029T010000
END:STANDARD
END:VTIMEZONE
BEGIN:VEVENT
DTSTART;VALUE=DATE:20220519
DTEND;VALUE=DATE:20220522
DTSTAMP:20260424T050208
CREATED:20220403T163910Z
LAST-MODIFIED:20220403T163910Z
UID:1065-1652925600-1653098399@germany.acm.org
SUMMARY:Workshop Software Engineering Live
DESCRIPTION:Workshop Software Engineering Live 2022 \nDatum: 19./20. Mai 2022\nOrt: Das Kronthaler\, Achenkirch \nÜber SE Live \n\nSoftware Engineering Live ist ein Netzwerk von Software-Architekten und Methodenverantwortlichen\, die intensiven Erfahrungsaustausch pflegen. In den SE Live-Workshops werden neue Methoden und Techniken diskutiert\, die im Brennpunkt neuer Entwicklungen stehen und bereits in Praxis-Projekten angewendet werden.\nFür den Workshop im Mai 2022 sind Vorträge eingeladener Referenten unter anderem zu folgenden Themen geplant: \n    KI- und Blockchain-Anwendungen in der Praxis\n    Optimierung von Test-Suiten\n    Digitale Zwillinge \nZwei Sessions am Donnerstag sind für freie Diskussionsrunden reserviert. Falls Sie ein Thema für eine Diskussionsrunde vorschlagen möchten\, kontaktieren Sie uns bitte unter info@se-live.org bzw. den Koordinator Wolfgang Glock oder ruth.breu@uibk.ac.at  direkt. Der Workshop findet im Hotel das Kronthaler in Achenkirch statt (https://www.daskronthaler.com/).\nProgramm: https://www.se-live.org/\nRegistrierung: https://www.se-live.org/registrierung/
URL:https://germany.acm.org/veranstaltungen/workshop-software-engineering-live/
ORGANIZER;CN="German Chapter of the ACM":MAILTO:secretary@informatik.org
END:VEVENT
BEGIN:VEVENT
DTSTART;VALUE=DATE:20220520
DTEND;VALUE=DATE:20220524
DTSTAMP:20260424T050208
CREATED:20220508T121627Z
LAST-MODIFIED:20220508T121627Z
UID:1102-1653012000-1653271199@germany.acm.org
SUMMARY:SDaCathon: No. 2
DESCRIPTION:SDaCathon: No. 2\nMake Bauwirtschaft sexy again vom 20.-22. Mai 2022! \nErdnussbutter und Marmelade\, Larry Page und Sergey Brin\, Python und Kaffee\, SDaC und Hackathon\, KI und Bauwirtschaft -wir finden das passt einfach zusammen. \nDeshalb wollen wir auch in diesem Jahr mit euch die besten und innovativsten Ideen zum Thema KI in der Bauwirtschaft erschaffen. \nHabt ihr Lust? Dann meldet euch jetzt an und löst gemeinsam mit einer großen Community von Hackern und Codern eine unserer vielen Challenges und sahnt obendrauf attraktive Geldpreise ab. \nWer kann mitmachen?\nVom Studierenden bis zum Professional – jeder ist herzlich willkommen\, der mit uns die Bauwirtschaft aufs nächste Level heben möchte. Wichtig sind Programmierkenntnisse und Spaß am Wettbewerb. \nWir freuen uns auf all die interessanten Menschen\, vielfältigen Talente\, überraschenden Technologien und spannende Ergebnisse\, die der SDaCathon aktivieren und erschaffen wird. \nWeiterführende Informationen sind zu finden unter: https://www.cyberforum.de/sdacathon/
URL:https://germany.acm.org/veranstaltungen/sdacathon-no-2/
END:VEVENT
END:VCALENDAR