BEGIN:VCALENDAR
VERSION:2.0
PRODID:-//German Chapter of the ACM - ECPv6.15.20//NONSGML v1.0//EN
CALSCALE:GREGORIAN
METHOD:PUBLISH
X-WR-CALNAME:German Chapter of the ACM
X-ORIGINAL-URL:https://germany.acm.org
X-WR-CALDESC:Veranstaltungen für German Chapter of the ACM
REFRESH-INTERVAL;VALUE=DURATION:PT1H
X-Robots-Tag:noindex
X-PUBLISHED-TTL:PT1H
BEGIN:VTIMEZONE
TZID:Europe/Berlin
BEGIN:DAYLIGHT
TZOFFSETFROM:+0100
TZOFFSETTO:+0200
TZNAME:CEST
DTSTART:20210328T010000
END:DAYLIGHT
BEGIN:STANDARD
TZOFFSETFROM:+0200
TZOFFSETTO:+0100
TZNAME:CET
DTSTART:20211031T010000
END:STANDARD
BEGIN:DAYLIGHT
TZOFFSETFROM:+0100
TZOFFSETTO:+0200
TZNAME:CEST
DTSTART:20220327T010000
END:DAYLIGHT
BEGIN:STANDARD
TZOFFSETFROM:+0200
TZOFFSETTO:+0100
TZNAME:CET
DTSTART:20221030T010000
END:STANDARD
BEGIN:DAYLIGHT
TZOFFSETFROM:+0100
TZOFFSETTO:+0200
TZNAME:CEST
DTSTART:20230326T010000
END:DAYLIGHT
BEGIN:STANDARD
TZOFFSETFROM:+0200
TZOFFSETTO:+0100
TZNAME:CET
DTSTART:20231029T010000
END:STANDARD
END:VTIMEZONE
BEGIN:VEVENT
DTSTART;VALUE=DATE:20220926
DTEND;VALUE=DATE:20221002
DTSTAMP:20260423T225956
CREATED:20220403T164946Z
LAST-MODIFIED:20220403T164946Z
UID:1076-1664157600-1664589599@germany.acm.org
SUMMARY:GI Jahrestagung 2022
DESCRIPTION:INFORMATIK 2022 – 52. Jahrestagung der Gesellschaft für Informatik\n26. bis 30.09.2022 in Hamburg \nDie #INFORMATIK2022 ist die offizielle Jahrestagung der Gesellschaft für Informatik e.V. (GI)\, der größten Vereinigung der Informatikerinnen und Informatiker im deutschsprachigen Raum und wird jährlich an wechselnden Orten veranstaltet. Die 52. Jahrestagung INFORMATIK 2022 findet vom 26. bis 30.09.2022 in Hamburg als Präsenzveranstaltung statt. \nDas Rahmenthema der INFORMATIK 2022 ist „Informatik in den Naturwissenschaften“. Dieses Thema fokussiert auf die Synergien der verschiedenen Naturwissenschaftsdisziplinen mit der Informatik. Naturwissenschaften beobachten und ergründen die Natur durch Empirie und Experimente\, um sie verstehbar und nutzbar zu machen. Die Informatik nimmt dabei eine besondere Rolle ein\, indem sie komplexe Analysen und Vorhersagen ermöglicht und große Datenmengen verarbeitet\, verwaltet und visualisiert. Einerseits bedienen sich die Naturwissenschaften dabei der Informatik als Werkzeug\, andererseits ist die Natur in den verschiedenen Bereichen der Informatik ein Vorbild und Quelle für Inspiration. \nNeben Beiträgen zum Schwerpunktthema gibt die INFORMATIK 2022 einen Einblick zu weiteren Themen\, die aktuell besondere Aufmerksamkeit in Wissenschaft\, Praxis und Gesellschaft erfahren. Dies sind z. B. Web Science\, Data Science\, Internet of Everything\, Sichere und zuverlässige Systeme\, KI\, Autonomes Fahren und Mobilität\, Quantencomputing\, Digital Health\, Green Coding\, Robotik\, Industrie 4.0\, Software Engineering\, Computerethik sowie Informatik-Didaktik. \nAuf der INFORMATIK 2022 bringen wir Gesprächspartnerinnen und -partner aus Wissenschaft\, Politik und Wirtschaft zusammen\, beleuchten gesellschaftliche und politische Zusammenhänge und suchen den Dialog mit allen Interessierten.
URL:https://germany.acm.org/veranstaltungen/gi-jahrestagung-2022/
END:VEVENT
BEGIN:VEVENT
DTSTART;TZID=Europe/Berlin:20220930T113000
DTEND;TZID=Europe/Berlin:20220930T193000
DTSTAMP:20260423T225956
CREATED:20220911T141403Z
LAST-MODIFIED:20220911T141551Z
UID:1172-1664537400-1664566200@germany.acm.org
SUMMARY:7th GI/ACM I4.0 Workshop on Industrial Automation and Control Systems
DESCRIPTION:7th GI/ACM I4.0 Workshop on Industrial Automation and Control\nSystems\, University of Hamburg\,\nSeptember 30\, 2022\, 9h30-15h30 + Social Session (closing 18h00)\n(7th IACS WS’22)\nThe 7th IACS WS’22 in series is again aligned with the yearly assembly of the ‚GI\nJahrestagung 2022’. Hence the workshop schedule is planned in accordance with the GI\nconference schedule of the\n52nd GI Jahrestagung from September 26 to September 30\, 2022\nanticipating ‘Informatik in den Naturwissenschaften’\,\norganized by GI and University Hamburg\nAll participants of the 7th IACS Workshop HAVE TO BE registered at Informatik 2022\nConference Site:\nhttps://pretix.eu/gi/INFORMATIK2022/\nor\nhttps://informatik2022.gi.de/registrierung/unterkuenfte\nThere\, you’ll also find useful information to your participation at the Informatik 2022\nConference and workshops:\nhttps://informatik2022.gi.de/workshops\nPlease notice that the 7th IACS WS’22 takes place in a hybrid fashion.\nPlease contact us if you would require a virtual participation. In that case we’ll send an\ninvitation to the distinguished virtual conference room: ‘7th GI/IACS Workshop’
URL:https://germany.acm.org/veranstaltungen/7th-gi-acm-i4-0-workshop-on-industrial-automation-and-control-systems/
ORGANIZER;CN="German Chapter of the ACM":MAILTO:secretary@informatik.org
END:VEVENT
END:VCALENDAR