BEGIN:VCALENDAR
VERSION:2.0
PRODID:-//German Chapter of the ACM - ECPv6.15.20//NONSGML v1.0//EN
CALSCALE:GREGORIAN
METHOD:PUBLISH
X-WR-CALNAME:German Chapter of the ACM
X-ORIGINAL-URL:https://germany.acm.org
X-WR-CALDESC:Veranstaltungen für German Chapter of the ACM
REFRESH-INTERVAL;VALUE=DURATION:PT1H
X-Robots-Tag:noindex
X-PUBLISHED-TTL:PT1H
BEGIN:VTIMEZONE
TZID:Europe/Berlin
BEGIN:DAYLIGHT
TZOFFSETFROM:+0100
TZOFFSETTO:+0200
TZNAME:CEST
DTSTART:20220327T010000
END:DAYLIGHT
BEGIN:STANDARD
TZOFFSETFROM:+0200
TZOFFSETTO:+0100
TZNAME:CET
DTSTART:20221030T010000
END:STANDARD
BEGIN:DAYLIGHT
TZOFFSETFROM:+0100
TZOFFSETTO:+0200
TZNAME:CEST
DTSTART:20230326T010000
END:DAYLIGHT
BEGIN:STANDARD
TZOFFSETFROM:+0200
TZOFFSETTO:+0100
TZNAME:CET
DTSTART:20231029T010000
END:STANDARD
BEGIN:DAYLIGHT
TZOFFSETFROM:+0100
TZOFFSETTO:+0200
TZNAME:CEST
DTSTART:20240331T010000
END:DAYLIGHT
BEGIN:STANDARD
TZOFFSETFROM:+0200
TZOFFSETTO:+0100
TZNAME:CET
DTSTART:20241027T010000
END:STANDARD
END:VTIMEZONE
BEGIN:VEVENT
DTSTART;TZID=Europe/Berlin:20230324T150000
DTEND;TZID=Europe/Berlin:20230324T193000
DTSTAMP:20260424T062640
CREATED:20230314T113548Z
LAST-MODIFIED:20230314T113548Z
UID:1229-1679670000-1679686200@germany.acm.org
SUMMARY:Mitgliederversammlung am 24. März bei der Microsoft Deutschland GmbH\, Geschäftsstelle München
DESCRIPTION:Wir laden alle Mitglieder und auch eine begrenzte Anzahl von Gästen (FCFS) des German Chapter of the ACM zur Mitgliederversammlung am 24. März ein. \nDie Tagesordnung für die Mitgliederversammlung sieht wie folgt aus: \n1. Begrüßung und Vorstellung der Agenda\n2. Feststellung der Beschlussfähigkeit\n3. Bericht des Vorstands\n4. Bericht des Treasurers\n5. Bericht der Kassenprüfung\n6. Entlastung des Vorstands\n7. Wahl der Kassenprüfer\n8. Wahl der Leitung für die Vorstandswahl\n9. Genehmigung des Beschlussprotokolls\n10. Ausblick & Sonstiges \nDie Mitgliederversammlung wird in diesem Jahr bei Microsoft in München stattfinden. Wir werden die Gelegenheit für eine Besichtigung haben und einen Vortrag von Microsoft zu einem spannenden Thema hören. \nAls weiteres Highlight werden wir auf der Mitgliederversammlung in diesem Jahr erstmalig den Albert-Endres-Award vergeben und in den Genuss eines Fachvortrages der Preisträgerin Prof. Dr. Ruth Breu kommen. \nVersäumen Sie nicht\, sich unverzüglich den 24. März von 15:00 bis 19:30 Uhr in Ihrem Kalender zu reservieren (falls noch nicht geschehen) und persönlich zur Veranstaltung bei Microsoft in München zu erscheinen: \nMicrosoft Deutschland GmbH\, Geschäftsstelle München\nWalter-Gropius-Straße 5\n80807 München \nVom Flughafen mit dem Airport-Bus in die Stadt\, bei Haltestelle „Nordfriedhof“ aussteigen. Vom Hauptbahnhof mit U4 oder U5 bis Odeonsplatz und von dort mit der U6 bis Nordfriedhof. Vom Nordfriedhof ca. 300m zu Fuß nach Westen und unter der Autobahn durch zu Microsoft. \nWir freuen uns sehr auf ein Wiedersehen mit Ihnen! Insbesondere nach der langen Zeit des pandemiebedingten Social Distancing ist diese Veranstaltung eine wunderbare Gelegenheit\, sich wieder einmal persönlich zu sehen und die Beziehungen untereinander wiederzubeleben. \nWir wären sehr dankbar\, wenn Sie sich trotz dem gefühlten neuen Standard von Online-Meetings am 24. März auf den Weg zu Microsoft in München machen würden und Ihr persönliches Erscheinen am 24. März per formloser Email an secretary AT informatik.org bis 17. März bestätigen könnten. \nErnst O. Wilhelm (Chairman of the GChACM)
URL:https://germany.acm.org/veranstaltungen/mitgliederversammlung-am-24-maerz-bei-der-microsoft-deutschland-gmbh-geschaeftsstelle-muenchen/
LOCATION:Microsoft Deutschland GmbH\, Geschäftsstelle München Walter-Gropius-Straße 5 80807 München\, Walter-Gropius-Straße 5\, München\, 80807
ORGANIZER;CN="German Chapter of the ACM":MAILTO:secretary@informatik.org
END:VEVENT
END:VCALENDAR