BEGIN:VCALENDAR
VERSION:2.0
PRODID:-//German Chapter of the ACM - ECPv6.15.20//NONSGML v1.0//EN
CALSCALE:GREGORIAN
METHOD:PUBLISH
X-WR-CALNAME:German Chapter of the ACM
X-ORIGINAL-URL:https://germany.acm.org
X-WR-CALDESC:Veranstaltungen für German Chapter of the ACM
REFRESH-INTERVAL;VALUE=DURATION:PT1H
X-Robots-Tag:noindex
X-PUBLISHED-TTL:PT1H
BEGIN:VTIMEZONE
TZID:Europe/Berlin
BEGIN:DAYLIGHT
TZOFFSETFROM:+0100
TZOFFSETTO:+0200
TZNAME:CEST
DTSTART:20180325T010000
END:DAYLIGHT
BEGIN:STANDARD
TZOFFSETFROM:+0200
TZOFFSETTO:+0100
TZNAME:CET
DTSTART:20181028T010000
END:STANDARD
BEGIN:DAYLIGHT
TZOFFSETFROM:+0100
TZOFFSETTO:+0200
TZNAME:CEST
DTSTART:20190331T010000
END:DAYLIGHT
BEGIN:STANDARD
TZOFFSETFROM:+0200
TZOFFSETTO:+0100
TZNAME:CET
DTSTART:20191027T010000
END:STANDARD
BEGIN:DAYLIGHT
TZOFFSETFROM:+0100
TZOFFSETTO:+0200
TZNAME:CEST
DTSTART:20200329T010000
END:DAYLIGHT
BEGIN:STANDARD
TZOFFSETFROM:+0200
TZOFFSETTO:+0100
TZNAME:CET
DTSTART:20201025T010000
END:STANDARD
END:VTIMEZONE
BEGIN:VEVENT
DTSTART;TZID=Europe/Berlin:20190506T210000
DTEND;TZID=Europe/Berlin:20190507T000000
DTSTAMP:20260423T221410
CREATED:20190324T185949Z
LAST-MODIFIED:20190324T185949Z
UID:565-1557176400-1557187200@germany.acm.org
SUMMARY:Eliminierung von Sabotageakten und Hackerangriffen
DESCRIPTION:Vortrag „Eliminierung von Sabotageakten und Hackerangriffen“ von Andreas Roscher im Rahmen der ACM/GI-Regionalgruppe Dortmund
URL:https://germany.acm.org/veranstaltungen/eliminierung-von-sabotageakten-und-hackerangriffen/
LOCATION:Mercure Hotel Dortmund\, Olpe 2\, Dortmund\, 44135
END:VEVENT
BEGIN:VEVENT
DTSTART;TZID=Europe/Berlin:20190506T213000
DTEND;TZID=Europe/Berlin:20190506T230000
DTSTAMP:20260423T221410
CREATED:20190416T080701Z
LAST-MODIFIED:20190416T080701Z
UID:578-1557178200-1557183600@germany.acm.org
SUMMARY:Zeitenwende: Das Ende der digitalen Welt?
DESCRIPTION:Zeitenwende: Das Ende der digitalen Welt? Gedanken zur Unternehmensführung in der post-digitalen Welt Vortrag von Roland M. Dürre\, Blogger & InterFace AG  \nVortrag im Rahmen der ACM/GI-Regionalgruppe München
URL:https://germany.acm.org/veranstaltungen/zeitenwende-das-ende-der-digitalen-welt/
LOCATION:Eden Hotel Wolff\, München\, Arnulfstraße 4-8\, München\, 80335
END:VEVENT
BEGIN:VEVENT
DTSTART;TZID=Europe/Berlin:20190508T190000
DTEND;TZID=Europe/Berlin:20190508T200000
DTSTAMP:20260423T221410
CREATED:20190416T081214Z
LAST-MODIFIED:20190416T081214Z
UID:582-1557342000-1557345600@germany.acm.org
SUMMARY:Vortrag zur Künstlichen Intelligenz
DESCRIPTION:Vortrag zur Künstlichen Intelligenz\nim Rahmen der ACM/GI-Regionalgruppe Aachen
URL:https://germany.acm.org/veranstaltungen/vortrag-zur-kuenstlichen-intelligenz/
END:VEVENT
BEGIN:VEVENT
DTSTART;VALUE=DATE:20190509
DTEND;VALUE=DATE:20190512
DTSTAMP:20260423T221410
CREATED:20180621T161856Z
LAST-MODIFIED:20180621T161856Z
UID:211-1557367200-1557539999@germany.acm.org
SUMMARY:SE Live 2019
DESCRIPTION:Software Engineering Live ist ein Netzwerk von Software-Architekten und Methodenverantwortlichen mit dem Ziel\, ein Klima des Erfahrungsaustausches zu schaffen. In den Workshops werden Methoden und Techniken diskutiert\, die im Brennpunkt neuer Entwicklungen stehen und in die bereits in realen Projekten angewendet werden.
URL:https://germany.acm.org/veranstaltungen/se-live-2019/
LOCATION:Hotel Das Kronthaler\, Am Waldweg 105a\, Achenkirch\, Tirol\, 6215\, Österreich
ATTACH;FMTTYPE=image/png:https://germany.acm.org/wp-content/uploads/2018/06/se_logo1.png
ORGANIZER;CN="German Chapter of the ACM":MAILTO:secretary@informatik.org
END:VEVENT
BEGIN:VEVENT
DTSTART;VALUE=DATE:20190509
DTEND;VALUE=DATE:20190512
DTSTAMP:20260423T221410
CREATED:20190416T080956Z
LAST-MODIFIED:20190416T080956Z
UID:580-1557367200-1557539999@germany.acm.org
SUMMARY:SE Live 2019 - Software Engineering Workshop / Konferenz
DESCRIPTION:Workshop Software Engineering Live 2019 \nDatum: 09.-10. Mai 2019 \nOrt: Das Kronthaler\, Achenkirch\, Tirol\, Österreich \nwww.se-live.org \nSoftware Engineering Live ist ein Netzwerk von Software-Architekten und Methodenverantwortlichen\, die intensiven Erfahrungsaustausch pflegen. In den SE Live-Workshops werden neue Methoden und Techniken diskutiert\, die im Brennpunkt neuer Entwicklungen stehen und bereits in Praxis-Projekten angewendet werden. \nFür den Workshop im Mai 2019 sind Vorträge eingeladener Referenten unter anderem zu folgenden Themen geplant: \n–          Wie kann die Qualität von datenintensiven Anwendungen gesichert werden? \n–          Wie geht man mit dem Thema Security in der Softwareentwicklung um? \n–          Wie wählt man Anwendungen und Technologien systematisch aus? \nDer Workshop findet im Hotel das Kronthaler in Achenkirch statt (https://www.daskronthaler.com/) mit einem attraktiven Rahmenprogramm in gemütlicher Atmosphäre. \nProgramm: https://www.se-live.org/\nRegistrierung: www.se-live.org/registrierung/ – Nur Registrierungen über diese Seite sind gültig – keine Registierung in XING!!! \nWir würden uns freuen\, Sie begrüßen zu dürfen! Gäste und Freunde sind wie immer herzliche willkommen! Weitersagen! \n—————————————— \nVeranstalter \nGerman Chapter of the ACM e.V.\nRegionalgruppe München von GI und GChACM \nUnterstützer \nArbeitskreis SEL von GI und GChACM\nUniversität Innsbruck\nStandortagentur Tirol \nOrganisation \nProf. Dr. Ruth Breu (Universität Innsbruck und Fraunhofer Austria)\nWolfgang Glock (Landeshauptstadt München)\nThomas Matzner (Berater für Systemanalyse)\nDr. Friederike Nickl (Swiss Life Deutschland)\nDr. Oliver Wiegert (iteratec GmbH) \nKontakt: info@se-live.org
URL:https://germany.acm.org/veranstaltungen/se-live-2019-software-engineering-workshop-konferenz/
END:VEVENT
BEGIN:VEVENT
DTSTART;TZID=Europe/Berlin:20190509T210000
DTEND;TZID=Europe/Berlin:20190509T210000
DTSTAMP:20260423T221410
CREATED:20190416T082211Z
LAST-MODIFIED:20190416T082212Z
UID:588-1557435600-1557435600@germany.acm.org
SUMMARY:Datenschutz bei Big Data – Geht das überhaupt?
DESCRIPTION:Datenschutz bei Big Data – Geht das überhaupt?\nViele Big-Data-Anwendungen scheinen segensreich\, aber weniger positiv wird angesehen\, wenn personenbezogene Daten ohne unser Wissen und Wollen genutzt werden. Was Amazon\, Google\, Facebook & Co. machen\, ist uns oft nicht geheuer. Der Vortrag beschreibt Chancen und Risiken und wie mit den Instrumenten des Datenschutzes die Risiken bewältigt werden können. \nVortrag im Rahmen der ACM/GI-Regionalgruppe OWL
URL:https://germany.acm.org/veranstaltungen/datenschutz-bei-big-data-geht-das-ueberhaupt/
LOCATION:Paderborn\, HNF\, Fürstenallee 7\, Paderborn\, 33102\, Deutschland
END:VEVENT
BEGIN:VEVENT
DTSTART;TZID=Europe/Berlin:20190510T110000
DTEND;TZID=Europe/Berlin:20190510T223000
DTSTAMP:20260423T221410
CREATED:20190416T075312Z
LAST-MODIFIED:20190416T075312Z
UID:572-1557486000-1557527400@germany.acm.org
SUMMARY:DEVCAMP Stuttgart
DESCRIPTION:DEVCAMP\nWorkshop der Gesellschaft für Informatik / Young Targets \nVeranstaltungsort\nVektor Informatik GmbH.\nHolderäckerstr. 36\nIndustriegebiet Stuttgart-Weilimdorf. S-Bahn: Weilimdorf\, S6\, S60. Bus: 90\n70499 Stuttgart
URL:https://germany.acm.org/veranstaltungen/devcamp-stuttgart/
END:VEVENT
BEGIN:VEVENT
DTSTART;VALUE=DATE:20190514
DTEND;VALUE=DATE:20190519
DTSTAMP:20260423T221410
CREATED:20190416T081924Z
LAST-MODIFIED:20190416T081924Z
UID:586-1557799200-1558144799@germany.acm.org
SUMMARY:Digital Future Science Match 2019
DESCRIPTION:Das Digital Future Science Match vernetzt Digitalforschung mit Wirtschaft und Gesellschaft. Treffen Sie 1.000 digitale Pioniere an einem Tag voller Innovation\, um sich mit den Schwerpunkten der digitalen Zukunft auseinanderzusetzen. DI GI ist Netzwerkpartner der Veranstaltung.
URL:https://germany.acm.org/veranstaltungen/digital-future-science-match-2019/
END:VEVENT
BEGIN:VEVENT
DTSTART;TZID=Europe/Berlin:20190519T100000
DTEND;TZID=Europe/Berlin:20190519T190000
DTSTAMP:20260423T221410
CREATED:20190519T092834Z
LAST-MODIFIED:20190519T092834Z
UID:620-1558260000-1558292400@germany.acm.org
SUMMARY:Themenabend: Machine Learning
DESCRIPTION:Themenabend: Machine Learning\nim Rahmen der ACM/GI-Regionalgruppe Köln
URL:https://germany.acm.org/veranstaltungen/themenabend-machine-learning-2/
LOCATION:Universität Köln\, Hörsaal VI im Hauptgebäude\, Albertus-Magnus Platz 1\, Köln\, 50931\, Deutschland
END:VEVENT
BEGIN:VEVENT
DTSTART;TZID=Europe/Berlin:20190522T110000
DTEND;TZID=Europe/Berlin:20190522T200000
DTSTAMP:20260423T221410
CREATED:20190324T190356Z
LAST-MODIFIED:20190324T190356Z
UID:567-1558522800-1558555200@germany.acm.org
SUMMARY:LSWT2019: 7. Leipziger Semantic Web Tag
DESCRIPTION:
URL:https://germany.acm.org/veranstaltungen/lswt2019-7-leipziger-semantic-web-tag/
END:VEVENT
BEGIN:VEVENT
DTSTART;TZID=Europe/Berlin:20190522T200000
DTEND;TZID=Europe/Berlin:20190522T220000
DTSTAMP:20260423T221410
CREATED:20190317T184430Z
LAST-MODIFIED:20190317T184430Z
UID:541-1558555200-1558562400@germany.acm.org
SUMMARY:Unternehmenskultur ein unerkanntes Potenzial in der digitalen Transformation
DESCRIPTION:Vortrag „Unternehmenskultur ein unerkanntes Potenzial in der digitalen Transformation“ im Rahmen der ACM/GI-Regionalgruppe Hamburg
URL:https://germany.acm.org/veranstaltungen/unternehmenskultur-ein-unerkanntes-potenzial-in-der-digitalen-transformation/
LOCATION:HBT Hamburger Berater Team GmbH\, Stadthausbrücke 3\, Hamburg\, 20355\, Deutschland
END:VEVENT
BEGIN:VEVENT
DTSTART;TZID=Europe/Berlin:20190522T201500
DTEND;TZID=Europe/Berlin:20190522T214500
DTSTAMP:20260423T221410
CREATED:20190519T092555Z
LAST-MODIFIED:20190519T092555Z
UID:616-1558556100-1558561500@germany.acm.org
SUMMARY:Digitalisierung: Insurance - Digitale Transformation in der Versicherungsbranche
DESCRIPTION:Digitalisierung: Insurance – Digitale Transformation in der Versicherungsbranche\nim Rahmen der ACM/GI-Regionalgruppe Aachen
URL:https://germany.acm.org/veranstaltungen/digitalisierung-insurance-digitale-transformation-in-der-versicherungsbranche/
LOCATION:RWTH Aachen\, Aachen
END:VEVENT
BEGIN:VEVENT
DTSTART;TZID=Europe/Berlin:20190524T190000
DTEND;TZID=Europe/Berlin:20190524T210000
DTSTAMP:20260423T221410
CREATED:20190416T075538Z
LAST-MODIFIED:20190416T075538Z
UID:574-1558724400-1558731600@germany.acm.org
SUMMARY:AK Privacy by Design (11. Treffen)
DESCRIPTION:AK Privacy by Design (11. Treffen) im Rahmen der ACM/GI-Regionalgruppe Stuttgart/Böblingen \nVeranstaltungsort\nInformatik Consulting Systems AG (ICS AG)\nSonnenbergstraße 13\nStadtbahn: Dobelstr. (U5\, U6\, U7\, U12)\n70184 Stuttgart
URL:https://germany.acm.org/veranstaltungen/ak-privacy-by-design-11-treffen/
END:VEVENT
BEGIN:VEVENT
DTSTART;TZID=Europe/Berlin:20190528T130000
DTEND;TZID=Europe/Berlin:20190528T200000
DTSTAMP:20260423T221410
CREATED:20190416T075828Z
LAST-MODIFIED:20190416T075828Z
UID:576-1559048400-1559073600@germany.acm.org
SUMMARY:Wie sicher ist das Fundament für die Digitalisierung? TOMs als Grundlage des Datenschutzes
DESCRIPTION:Wie sicher ist das Fundament für die Digitalisierung? TOMs als Grundlage des Datenschutzes \nKonferenz veranstaltet von der ACM/GI-Regionalgruppe Stuttgart/ Böblingen zusammen mit GFT\, IAPP Knowledgement Chapter\, EY \nVeranstaltungsort\nGFT Technologies SE\, Corporate Center\, Stuttgart\nSchelmenwasenstr. 34\nU-Bahn: U6 (Fasanenhof Schelmenwasen)\n70567 Stuttgart\, Deutschland
URL:https://germany.acm.org/veranstaltungen/wie-sicher-ist-das-fundament-fuer-die-digitalisierung-toms-als-grundlage-des-datenschutzes/
END:VEVENT
END:VCALENDAR