BEGIN:VCALENDAR
VERSION:2.0
PRODID:-//German Chapter of the ACM - ECPv6.15.20//NONSGML v1.0//EN
CALSCALE:GREGORIAN
METHOD:PUBLISH
X-WR-CALNAME:German Chapter of the ACM
X-ORIGINAL-URL:https://germany.acm.org
X-WR-CALDESC:Veranstaltungen für German Chapter of the ACM
REFRESH-INTERVAL;VALUE=DURATION:PT1H
X-Robots-Tag:noindex
X-PUBLISHED-TTL:PT1H
BEGIN:VTIMEZONE
TZID:Europe/Berlin
BEGIN:DAYLIGHT
TZOFFSETFROM:+0100
TZOFFSETTO:+0200
TZNAME:CEST
DTSTART:20180325T010000
END:DAYLIGHT
BEGIN:STANDARD
TZOFFSETFROM:+0200
TZOFFSETTO:+0100
TZNAME:CET
DTSTART:20181028T010000
END:STANDARD
BEGIN:DAYLIGHT
TZOFFSETFROM:+0100
TZOFFSETTO:+0200
TZNAME:CEST
DTSTART:20190331T010000
END:DAYLIGHT
BEGIN:STANDARD
TZOFFSETFROM:+0200
TZOFFSETTO:+0100
TZNAME:CET
DTSTART:20191027T010000
END:STANDARD
BEGIN:DAYLIGHT
TZOFFSETFROM:+0100
TZOFFSETTO:+0200
TZNAME:CEST
DTSTART:20200329T010000
END:DAYLIGHT
BEGIN:STANDARD
TZOFFSETFROM:+0200
TZOFFSETTO:+0100
TZNAME:CET
DTSTART:20201025T010000
END:STANDARD
END:VTIMEZONE
BEGIN:VEVENT
DTSTART;TZID=Europe/Berlin:20190603T200000
DTEND;TZID=Europe/Berlin:20190603T220000
DTSTAMP:20260424T232202
CREATED:20190317T182903Z
LAST-MODIFIED:20190317T182903Z
UID:531-1559592000-1559599200@germany.acm.org
SUMMARY:IBM Quantum Computing
DESCRIPTION:Eine Anmeldung ist notwendig. Zur Einlasskontrolle werden die Teilnehmernamen an die IBM weitergegeben. Anmeldung und Erstellung der Teilnehmerausweise 18.00 h\, der Vortrag beginnt dann um 18.15 h.\nDie Teilnahme ist kostenfei. Gäste sind herzlich willkommen \nIm Jahr 2016 hat IBM mit dem „IBM Q“ den weltweit ersten universell einsetzbaren Quantencomputer für  Wirtschaft und Wissenschaft über die IBM Cloud-Plattform für Interessierte kostenlos zur Verfügung gestellt. Es gibt viele Mythen darüber\, was die Quantencomputer-Technologie leisten soll\, aber auch viele Bedenken\, z.B. bezogen auf die IT Sicherheit ! \nQuantum Computing unterscheidet sich gravierend vom klassischen Computing im Bezug auf Technologie und Programmierung\, d.h. es werden völlig neue Anforderungen bzw. Fähigkeiten und Skills an die Menschen gestellt\, die sich zukünftig mit dem Betrieb und der Programmierung von Quanten-Computern in traditionellen IT-Infrastrukturumgebungen beschäftigen werden. \nDer Vortrag zeigt den aktuellen Stand der Technologie bzgl. Quantum-Computing und IBM Q einschließlich Programmiermodelle und Anwendungsszenarien\, insbesondere im Hinblick auf die molekulare Forschung oder Optimierung. Weiterhin wird dargestellt\, wie Quantumtechnologien sich in klassische IT-Infrastrukturen\nintegrieren und wie dies die Computerwelt in Zukunft verändern wird.
URL:https://germany.acm.org/veranstaltungen/ibm-quantum-computing/
LOCATION:IBM Client Center\, Ehningen\, IBM-Allee 1\, IBM-Forum\, Ehningen\, 71139\, Deutschland
END:VEVENT
BEGIN:VEVENT
DTSTART;TZID=Europe/Berlin:20190603T210000
DTEND;TZID=Europe/Berlin:20190604T000000
DTSTAMP:20260424T232202
CREATED:20190602T085717Z
LAST-MODIFIED:20190602T085717Z
UID:642-1559595600-1559606400@germany.acm.org
SUMMARY:Die Zukunft der Softwareentwicklung ist Cloud Native
DESCRIPTION:Die Zukunft der Softwareentwicklung ist Cloud Native\nVortrag im Rahmen der ACM/GI-Regionalgruppe Dortmund
URL:https://germany.acm.org/veranstaltungen/die-zukunft-der-softwareentwicklung-ist-cloud-native/
LOCATION:Mercure Hotel Dortmund\, Olpe 2\, Dortmund\, 44135
END:VEVENT
BEGIN:VEVENT
DTSTART;TZID=Europe/Berlin:20190603T213000
DTEND;TZID=Europe/Berlin:20190603T230000
DTSTAMP:20260424T232202
CREATED:20190526T091155Z
LAST-MODIFIED:20190526T091155Z
UID:632-1559597400-1559602800@germany.acm.org
SUMMARY:Ziemlich beste Freunde? Über die Vereinbarkeit von Digitaler Transformation und Privatsphäre
DESCRIPTION:Ziemlich beste Freunde? Über die Vereinbarkeit von Digitaler Transformation und Privatsphäre \nVortrag von Marc-Oliver Pahl im Rahmen der ACM/GI-Regionalgruppe München
URL:https://germany.acm.org/veranstaltungen/ziemlich-beste-freunde-ueber-die-vereinbarkeit-von-digitaler-transformation-und-privatsphaere/
LOCATION:Eden Hotel Wolff\, München\, Arnulfstraße 4-8\, München\, 80335
END:VEVENT
BEGIN:VEVENT
DTSTART;TZID=Europe/Berlin:20190605T190000
DTEND;TZID=Europe/Berlin:20190605T200000
DTSTAMP:20260424T232202
CREATED:20190416T081525Z
LAST-MODIFIED:20190416T081525Z
UID:584-1559761200-1559764800@germany.acm.org
SUMMARY:Vortrag zu Internet of Things (LoRa)
DESCRIPTION:Vortrag zu Internet of Things (LoRa)\nim Rahmen der ACM/GI-Regionalgruppe Aachen
URL:https://germany.acm.org/veranstaltungen/vortrag-zu-internet-of-things-lora/
END:VEVENT
BEGIN:VEVENT
DTSTART;TZID=Europe/Berlin:20190605T200000
DTEND;TZID=Europe/Berlin:20190605T220000
DTSTAMP:20260424T232202
CREATED:20190428T103517Z
LAST-MODIFIED:20190428T103517Z
UID:593-1559764800-1559772000@germany.acm.org
SUMMARY:Themenabend: Machine Learning
DESCRIPTION:Themenabend „Machine Learning“ im Rahmen der ACM/GI-Regionalgruppe Köln
URL:https://germany.acm.org/veranstaltungen/themenabend-machine-learning/
LOCATION:Universität Köln\, Hörsaal VI im Hauptgebäude\, Albertus-Magnus Platz 1\, Köln\, 50931\, Deutschland
END:VEVENT
BEGIN:VEVENT
DTSTART;TZID=Europe/Berlin:20190606T190000
DTEND;TZID=Europe/Berlin:20190606T200000
DTSTAMP:20260424T232202
CREATED:20190317T185002Z
LAST-MODIFIED:20190317T185002Z
UID:544-1559847600-1559851200@germany.acm.org
SUMMARY:Mitgliederversammlung
DESCRIPTION:Mitgliederversammlung der ACM/GI-Regionalgruppe Rhein/Main
URL:https://germany.acm.org/veranstaltungen/mitgliederversammlung/
LOCATION:Fraunhofer IGD\, Fraunhoferstr. 5\, Darmstadt\, 64283\, Deutschland
END:VEVENT
BEGIN:VEVENT
DTSTART;TZID=Europe/Berlin:20190607T200000
DTEND;TZID=Europe/Berlin:20190607T220000
DTSTAMP:20260424T232202
CREATED:20190519T091549Z
LAST-MODIFIED:20190519T091549Z
UID:612-1559937600-1559944800@germany.acm.org
SUMMARY:AK „Softskills REquiREd“ (20.Treffen): Innovationsmanagement - von der Idee bis zur Umsetzung
DESCRIPTION:AK „Softskills REquiREd“ (20.Treffen): Innovationsmanagement – von der Idee bis zur Umsetzung\nveranstaltet von der ACM/GI-Regionalgruppe Stuttgart/ Böblingen und GI-Fachgruppe Requirements Engineering
URL:https://germany.acm.org/veranstaltungen/ak-softskills-required-20-treffen-innovationsmanagement-von-der-idee-bis-zur-umsetzung/
LOCATION:Forum 3\, Stuttgart\, Gymnasiumstraße 21\, Stuttgart\, 70173\, Deutschland
END:VEVENT
BEGIN:VEVENT
DTSTART;TZID=Europe/Berlin:20190613T120000
DTEND;TZID=Europe/Berlin:20190613T180000
DTSTAMP:20260424T232202
CREATED:20190526T091439Z
LAST-MODIFIED:20190526T091439Z
UID:634-1560427200-1560448800@germany.acm.org
SUMMARY:Digitalisierung sicher gestalten - Statuskonferenz des Forschungsschwerpunkts SecuRIn der Ostfalia Hochschule
DESCRIPTION:Digitalisierung sicher gestalten – Statuskonferenz des Forschungsschwerpunkts SecuRIn der Ostfalia Hochschule \nVeranstaltungsort\nOstfalia Hochschule für angewandte Wissenschaften\nHörsaalzentrum\, Am Exer 11\, 38302 Wolfenbüttel\n38302 Wolfenbüttel
URL:https://germany.acm.org/veranstaltungen/digitalisierung-sicher-gestalten-statuskonferenz-des-forschungsschwerpunkts-securin-der-ostfalia-hochschule/
END:VEVENT
BEGIN:VEVENT
DTSTART;TZID=Europe/Berlin:20190626T190000
DTEND;TZID=Europe/Berlin:20190626T210000
DTSTAMP:20260424T232202
CREATED:20190317T190659Z
LAST-MODIFIED:20190317T190659Z
UID:561-1561575600-1561582800@germany.acm.org
SUMMARY:5G-Mobilfunk - mehr als ein Performance-Update
DESCRIPTION:„5G-Mobilfunk – mehr als ein Performance-Update“ im Rahmen der ACM/GI-Regionalgruppe Ostwestfalen/Lippe
URL:https://germany.acm.org/veranstaltungen/5g-mobilfunk-mehr-als-ein-performance-update/
LOCATION:Paderborn\, HNF\, Fürstenallee 7\, Paderborn\, 33102\, Deutschland
END:VEVENT
BEGIN:VEVENT
DTSTART;TZID=Europe/Berlin:20190626T200000
DTEND;TZID=Europe/Berlin:20190626T220000
DTSTAMP:20260424T232202
CREATED:20190519T091934Z
LAST-MODIFIED:20190519T091934Z
UID:614-1561579200-1561586400@germany.acm.org
SUMMARY:IHE Affinity Domain mit InterSystems HealthShare - eine geführte Wanderung
DESCRIPTION:IHE Affinity Domain mit InterSystems HealthShare – eine geführte Wanderung\nim Rahmen der ACM/GI-Regionalgruppe Hamburg
URL:https://germany.acm.org/veranstaltungen/ihe-affinity-domain-mit-intersystems-healthshare-eine-gefuehrte-wanderung/
LOCATION:HBT Hamburger Berater Team GmbH\, Stadthausbrücke 3\, Hamburg\, 20355\, Deutschland
END:VEVENT
BEGIN:VEVENT
DTSTART;TZID=Europe/Berlin:20190627T200000
DTEND;TZID=Europe/Berlin:20190627T220000
DTSTAMP:20260424T232202
CREATED:20190602T085356Z
LAST-MODIFIED:20190602T085356Z
UID:640-1561665600-1561672800@germany.acm.org
SUMMARY:Software-Runde “Blockchain Technologie – Hype oder Hoffnung?“
DESCRIPTION:Software-Runde “Blockchain Technologie – Hype oder Hoffnung?“\nVeransatltung im Rahmen der ACM/GI-Regionalgruppe Mittelfranken\nim IGZ Innovations- und Gründerzentrum Nürnberg-Fürth-Erlangen GmbH\, 91058 Erlangen
URL:https://germany.acm.org/veranstaltungen/software-runde-blockchain-technologie-hype-oder-hoffnung/
END:VEVENT
END:VCALENDAR