BEGIN:VCALENDAR
VERSION:2.0
PRODID:-//German Chapter of the ACM - ECPv6.15.20//NONSGML v1.0//EN
CALSCALE:GREGORIAN
METHOD:PUBLISH
X-ORIGINAL-URL:https://germany.acm.org
X-WR-CALDESC:Veranstaltungen für German Chapter of the ACM
REFRESH-INTERVAL;VALUE=DURATION:PT1H
X-Robots-Tag:noindex
X-PUBLISHED-TTL:PT1H
BEGIN:VTIMEZONE
TZID:Europe/Berlin
BEGIN:DAYLIGHT
TZOFFSETFROM:+0100
TZOFFSETTO:+0200
TZNAME:CEST
DTSTART:20180325T010000
END:DAYLIGHT
BEGIN:STANDARD
TZOFFSETFROM:+0200
TZOFFSETTO:+0100
TZNAME:CET
DTSTART:20181028T010000
END:STANDARD
BEGIN:DAYLIGHT
TZOFFSETFROM:+0100
TZOFFSETTO:+0200
TZNAME:CEST
DTSTART:20190331T010000
END:DAYLIGHT
BEGIN:STANDARD
TZOFFSETFROM:+0200
TZOFFSETTO:+0100
TZNAME:CET
DTSTART:20191027T010000
END:STANDARD
BEGIN:DAYLIGHT
TZOFFSETFROM:+0100
TZOFFSETTO:+0200
TZNAME:CEST
DTSTART:20200329T010000
END:DAYLIGHT
BEGIN:STANDARD
TZOFFSETFROM:+0200
TZOFFSETTO:+0100
TZNAME:CET
DTSTART:20201025T010000
END:STANDARD
END:VTIMEZONE
BEGIN:VEVENT
DTSTART;TZID=Europe/Berlin:20190701T210000
DTEND;TZID=Europe/Berlin:20190702T000000
DTSTAMP:20260426T031054
CREATED:20190630T104233Z
LAST-MODIFIED:20190630T104233Z
UID:661-1562014800-1562025600@germany.acm.org
SUMMARY:Factory of Things - Verwendung von Microservices für das Internet der Dinge
DESCRIPTION:Factory of Things – Verwendung von Microservices für das Internet der Dinge\nVortrag von Jörn Esdohr​\, Softwareentwickler\, com2m GmbH\nim Rahmen der ACM/GI-Regionalgruppe Dortmund
URL:https://germany.acm.org/veranstaltungen/factory-of-things-verwendung-von-microservices-fuer-das-internet-der-dinge/
LOCATION:Mercure Hotel Dortmund\, Olpe 2\, Dortmund\, 44135
END:VEVENT
BEGIN:VEVENT
DTSTART;TZID=Europe/Berlin:20190701T213000
DTEND;TZID=Europe/Berlin:20190701T230000
DTSTAMP:20260426T031054
CREATED:20190616T082455Z
LAST-MODIFIED:20190616T082455Z
UID:658-1562016600-1562022000@germany.acm.org
SUMMARY:Software-Entwicklung in größeren Teams - Warum ist das so furchtbar schwierig?
DESCRIPTION:Software-Entwicklung in größeren Teams – Warum ist das so furchtbar schwierig?\nVortrag im Rahmen der ACM/GI-Regionalgruppe München
URL:https://germany.acm.org/veranstaltungen/software-entwicklung-in-groesseren-teams-warum-ist-das-so-furchtbar-schwierig/
LOCATION:Eden Hotel Wolff\, München\, Arnulfstraße 4-8\, München\, 80335
END:VEVENT
BEGIN:VEVENT
DTSTART;TZID=Europe/Berlin:20190703T160000
DTEND;TZID=Europe/Berlin:20190703T183000
DTSTAMP:20260426T031054
CREATED:20190616T081456Z
LAST-MODIFIED:20190616T081456Z
UID:649-1562169600-1562178600@germany.acm.org
SUMMARY:Industrielles Internet der Dinge (IIoT) in der Produktion
DESCRIPTION:Industrielles Internet der Dinge (IIoT) in der Produktion\, mit Labtour bei Hahn-Schickard in Villingen-Schwenningen\nDie Veranstaltung richtet sich an Unternehmer\, Führungskräfte\, sowie Fachexperten (z.B. Produktion\, IT\, Produkt- & Projektmanagement\, Marketing). \nVeranstaltung im Rahmen der ACM/GI-Regionalgruppe Südbaden
URL:https://germany.acm.org/veranstaltungen/industrielles-internet-der-dinge-iiot-in-der-produktion/
END:VEVENT
BEGIN:VEVENT
DTSTART;TZID=Europe/Berlin:20190703T190000
DTEND;TZID=Europe/Berlin:20190703T210000
DTSTAMP:20260426T031054
CREATED:20190526T091940Z
LAST-MODIFIED:20190526T091940Z
UID:636-1562180400-1562187600@germany.acm.org
SUMMARY:Rechtschreibreform: mathematisch/informatisch-orientiert
DESCRIPTION:Rechtschreibreform: mathematisch/informatisch-orientiert \nVortrag der ACM/GI-Regionalgruppe Aachen und des Fachbereichs Informatik der RWTH Aachen
URL:https://germany.acm.org/veranstaltungen/rechtschreibreform-mathematisch-informatisch-orientiert/
LOCATION:Hörsaal\, RWTH Aachen\, Ahornstraße 55\, Aachen\, 52074\, Deutschland
END:VEVENT
BEGIN:VEVENT
DTSTART;TZID=Europe/Berlin:20190704T190000
DTEND;TZID=Europe/Berlin:20190704T223000
DTSTAMP:20260426T031054
CREATED:20190630T104731Z
LAST-MODIFIED:20190630T104731Z
UID:665-1562266800-1562279400@germany.acm.org
SUMMARY:Datendiebstahl\, Doxing & Leaks – Wie erlangen wir die Kontrolle über unsere Daten zurück
DESCRIPTION:Unter dem Titel »Datendiebstahl\, Doxing & Leaks – Wie erlangen wir die Kontrolle über unsere Daten zurück?« mit dem Bundesdatenschutzbeauftragten Ulrich Kelber als Keynote Speaker veranstalten das Cyber Security Cluster Bonn\, das Fraunhofer-Institut für Kommunikation\, Informationsverarbeitung und Ergonomie FKIE\, die Deutsche Telekom\, die Stadt Bonn\, die IHK Bonn/Rhein-Sieg und die Universität Bonn den 12. Bonner Dialog für Cybersicherheit\, zu dem wir Sie hiermit herzlich einladen. \nAnmeldung auf der Webseite der Veranstaltung bis zum 2. Juli. \nIm Programm: \nPodiums-Publikums-Diskussion mit:\nUlrich Kelber\, Bundesbeauftragter für den Datenschutz und die Informationsfreiheit\nDirk Backofen\, Leiter Telekom Security / Vorstandsvorsitzender Cyber Security Cluster Bonn e.V.\nUrsula Brohl-Sowa\, Polizeipräsidentin Bonn\nProf. Dr. Louisa Specht-Riemenschneider\, Lehrstuhl für Bürgerliches Recht\, Daten und Informationsrecht\, Universität Bonn\nMichael Gessat\, freier Journalist
URL:https://germany.acm.org/veranstaltungen/datendiebstahl-doxing-leaks-wie-erlangen-wir-die-kontrolle-ueber-unsere-daten-zurueck/
END:VEVENT
BEGIN:VEVENT
DTSTART;TZID=Europe/Berlin:20190709T200000
DTEND;TZID=Europe/Berlin:20190709T220000
DTSTAMP:20260426T031054
CREATED:20190707T073339Z
LAST-MODIFIED:20190707T073339Z
UID:671-1562702400-1562709600@germany.acm.org
SUMMARY:Themenabend: Cyberabwehr in Deutschland
DESCRIPTION:Themenabend: Cyberabwehr in Deutschland\nim Rahmen der ACM/GI-Regionalgruppe Köln\nVeranstaltungsort: B-IT Center der Universität Bonn
URL:https://germany.acm.org/veranstaltungen/themenabend-cyberabwehr-in-deutschland/
END:VEVENT
BEGIN:VEVENT
DTSTART;TZID=Europe/Berlin:20190711T160000
DTEND;TZID=Europe/Berlin:20190711T200000
DTSTAMP:20260426T031054
CREATED:20190223T175354Z
LAST-MODIFIED:20190223T175354Z
UID:488-1562860800-1562875200@germany.acm.org
SUMMARY:I4.0 und ML: Machine Learning im industriellen Einsatz (Systeme)
DESCRIPTION:I4.0 und ML: Machine Learning im industriellen Einsatz (Systeme) \nVorplanung – Achtung Termin kann sich noch verschieben
URL:https://germany.acm.org/veranstaltungen/i4-0-und-ml-machine-learning-im-industriellen-einsatz-systeme/
END:VEVENT
BEGIN:VEVENT
DTSTART;TZID=Europe/Berlin:20190715T201500
DTEND;TZID=Europe/Berlin:20190715T220000
DTSTAMP:20260426T031054
CREATED:20190616T081809Z
LAST-MODIFIED:20190616T081809Z
UID:651-1563221700-1563228000@germany.acm.org
SUMMARY:Mobility as a Service
DESCRIPTION:Mobility as a Service\nVortrag im Rahmen der GI/ACM-Regionalgruppe Stuttgart/Böblingen
URL:https://germany.acm.org/veranstaltungen/mobility-as-a-service/
LOCATION:Universität Stuttgart\, Campus Stuttgart-Vaihingen\, Informatikgebäude\, Universitätsstraße 38\, Stuttgart\, 70569\, Deutschland
END:VEVENT
BEGIN:VEVENT
DTSTART;TZID=Europe/Berlin:20190718T200000
DTEND;TZID=Europe/Berlin:20190718T220000
DTSTAMP:20260426T031054
CREATED:20190616T082255Z
LAST-MODIFIED:20190616T082255Z
UID:656-1563480000-1563487200@germany.acm.org
SUMMARY:Bots ohne Semantik ist wie reden ohne Hirn
DESCRIPTION:Bots ohne Semantik ist wie reden ohne Hirn\nVortag im Rahmen der ACM/GI-Regionalgruppe Mittelfranken
URL:https://germany.acm.org/veranstaltungen/bots-ohne-semantik-ist-wie-reden-ohne-hirn/
LOCATION:TH Nürnberg Georg Simon Ohm\, Bahnhofstraße 87\, Nürnberg\, 90402\, Deutschland
END:VEVENT
BEGIN:VEVENT
DTSTART;TZID=Europe/Berlin:20190722T193000
DTEND;TZID=Europe/Berlin:20190722T210000
DTSTAMP:20260426T031054
CREATED:20190616T081137Z
LAST-MODIFIED:20190616T081137Z
UID:647-1563823800-1563829200@germany.acm.org
SUMMARY:Where do we go tomorrow? Data Driven Foresight – Nutzung IT- und datenbasierter Methoden für die Technologiefrühaufklärung
DESCRIPTION:Where do we go tomorrow? Data Driven Foresight – Nutzung IT- und datenbasierter Methoden für die Technologiefrühaufklärung \nVortrag im Rahmen der ACM/GI-Regionalgruppe Rhein-Neckar
URL:https://germany.acm.org/veranstaltungen/where-do-we-go-tomorrow-data-driven-foresight-nutzung-it-und-datenbasierter-methoden-fuer-die-technologiefruehaufklaerung/
LOCATION:Heidelberg\, Heidelberg\, 69117\, Deutschland
END:VEVENT
END:VCALENDAR