BEGIN:VCALENDAR
VERSION:2.0
PRODID:-//German Chapter of the ACM - ECPv6.15.20//NONSGML v1.0//EN
CALSCALE:GREGORIAN
METHOD:PUBLISH
X-WR-CALNAME:German Chapter of the ACM
X-ORIGINAL-URL:https://germany.acm.org
X-WR-CALDESC:Veranstaltungen für German Chapter of the ACM
REFRESH-INTERVAL;VALUE=DURATION:PT1H
X-Robots-Tag:noindex
X-PUBLISHED-TTL:PT1H
BEGIN:VTIMEZONE
TZID:Europe/Berlin
BEGIN:DAYLIGHT
TZOFFSETFROM:+0100
TZOFFSETTO:+0200
TZNAME:CEST
DTSTART:20180325T010000
END:DAYLIGHT
BEGIN:STANDARD
TZOFFSETFROM:+0200
TZOFFSETTO:+0100
TZNAME:CET
DTSTART:20181028T010000
END:STANDARD
BEGIN:DAYLIGHT
TZOFFSETFROM:+0100
TZOFFSETTO:+0200
TZNAME:CEST
DTSTART:20190331T010000
END:DAYLIGHT
BEGIN:STANDARD
TZOFFSETFROM:+0200
TZOFFSETTO:+0100
TZNAME:CET
DTSTART:20191027T010000
END:STANDARD
BEGIN:DAYLIGHT
TZOFFSETFROM:+0100
TZOFFSETTO:+0200
TZNAME:CEST
DTSTART:20200329T010000
END:DAYLIGHT
BEGIN:STANDARD
TZOFFSETFROM:+0200
TZOFFSETTO:+0100
TZNAME:CET
DTSTART:20201025T010000
END:STANDARD
END:VTIMEZONE
BEGIN:VEVENT
DTSTART;TZID=Europe/Berlin:20191202T080000
DTEND;TZID=Europe/Berlin:20191202T230000
DTSTAMP:20260424T050208
CREATED:20191130T152829Z
LAST-MODIFIED:20191130T152829Z
UID:761-1575273600-1575327600@germany.acm.org
SUMMARY:Anforderungen und Lösungsumsetzung in virtuellen Datacentern
DESCRIPTION:Anforderungen und Lösungsumsetzung in virtuellen Datacentern \nVortrag im Rahmen der ACM/GI-Regionalgruppe Dortmund
URL:https://germany.acm.org/veranstaltungen/anforderungen-und-loesungsumsetzung-in-virtuellen-datacentern/
LOCATION:Mercure Hotel Dortmund\, Olpe 2\, Dortmund\, 44135
END:VEVENT
BEGIN:VEVENT
DTSTART;TZID=Europe/Berlin:20191202T191500
DTEND;TZID=Europe/Berlin:20191202T210000
DTSTAMP:20260424T050208
CREATED:20191003T121703Z
LAST-MODIFIED:20191003T121703Z
UID:704-1575314100-1575320400@germany.acm.org
SUMMARY:Driving and being Driven Shaping the future of Mobility
DESCRIPTION:Driving and being Driven Shaping the future of Mobility\nVortrag im Rahmen der ACM/GI-Regionalgruppe Stuttgart/Böblingen
URL:https://germany.acm.org/veranstaltungen/driving-and-being-driven-shaping-the-future-of-mobility/
LOCATION:Universität Stuttgart\, Campus Stuttgart-Vaihingen\, Informatikgebäude\, Universitätsstraße 38\, Stuttgart\, 70569\, Deutschland
END:VEVENT
BEGIN:VEVENT
DTSTART;TZID=Europe/Berlin:20191204T180000
DTEND;TZID=Europe/Berlin:20191204T193000
DTSTAMP:20260424T050208
CREATED:20191130T153400Z
LAST-MODIFIED:20191130T153400Z
UID:763-1575482400-1575487800@germany.acm.org
SUMMARY:Artificial Intelligence Methods for Unmanned Aerial Systems
DESCRIPTION:Artificial Intelligence Methods for Unmanned Aerial Systems \nVortrag im Rahmen der ACM/GI-Regionalgruppe Ingolstadt
URL:https://germany.acm.org/veranstaltungen/artificial-intelligence-methods-for-unmanned-aerial-systems/
LOCATION:Technische Hochschule Ingolstadt\, Esplanade 10\, Ingolstatdt\, 85049\, Deutschland
ORGANIZER;CN="ACM/GI-Regionalgruppe Ingolstadt":MAILTO:hof@thi.de
END:VEVENT
BEGIN:VEVENT
DTSTART;TZID=Europe/Berlin:20191204T183000
DTEND;TZID=Europe/Berlin:20191204T200000
DTSTAMP:20260424T050208
CREATED:20191130T150725Z
LAST-MODIFIED:20191130T150725Z
UID:755-1575484200-1575489600@germany.acm.org
SUMMARY:Mensch und Maschine fremdeln noch ein bisschen - aber das wird schon noch
DESCRIPTION:Mensch und Maschine fremdeln noch ein bisschen – aber das wird schon noch \nVortrag im Rahmen der ACM/GI-Regionalgruppe Südbaden
URL:https://germany.acm.org/veranstaltungen/mensch-und-maschine-fremdeln-noch-ein-bisschen-aber-das-wird-schon-noch/
LOCATION:Hochschule Offenburg
END:VEVENT
BEGIN:VEVENT
DTSTART;TZID=Europe/Berlin:20191204T183000
DTEND;TZID=Europe/Berlin:20191204T220000
DTSTAMP:20260424T050208
CREATED:20191102T124139Z
LAST-MODIFIED:20191102T124139Z
UID:745-1575484200-1575496800@germany.acm.org
SUMMARY:Zukunftsorte Brandenburg? Digitale Strategien für mehr Teilhabe und Chancengleichheit in Stadt und Land
DESCRIPTION:Zukunftsorte Brandenburg? Digitale Strategien für mehr Teilhabe und Chancengleichheit in Stadt und Land\nVeranstaltung der ACM/GI-Regionalgruppe Berlin/Brandenburg \nVeranstaltungsort:\neco – Verband der Internetwirtschaft e.V. – Haupstadtbüro\nFranzösische Str. 48\n10178 Berlin
URL:https://germany.acm.org/veranstaltungen/zukunftsorte-brandenburg-digitale-strategien-fuer-mehr-teilhabe-und-chancengleichheit-in-stadt-und-land/
END:VEVENT
BEGIN:VEVENT
DTSTART;TZID=Europe/Berlin:20191204T193000
DTEND;TZID=Europe/Berlin:20191204T213000
DTSTAMP:20260424T050208
CREATED:20191130T153520Z
LAST-MODIFIED:20191130T153520Z
UID:765-1575487800-1575495000@germany.acm.org
SUMMARY:Besuch des Weihnachtsmarktes Ingolstadt
DESCRIPTION:Weihnachtliches Beisammensein der Regionalgruppe Ingolstadt auf dem Weihnachtsmarkt.
URL:https://germany.acm.org/veranstaltungen/besuch-des-weihnachtsmarktes-ingolstadt/
ORGANIZER;CN="ACM/GI-Regionalgruppe Ingolstadt":MAILTO:hof@thi.de
END:VEVENT
BEGIN:VEVENT
DTSTART;TZID=Europe/Berlin:20191209T203000
DTEND;TZID=Europe/Berlin:20191209T220000
DTSTAMP:20260424T050208
CREATED:20191005T105126Z
LAST-MODIFIED:20191005T105126Z
UID:725-1575923400-1575928800@germany.acm.org
SUMMARY:Softwarearchitekturen für Digitalisierung - alter Wein in neuen Schläuchen? (Michal Stal\, Principal Key Expert Engineer\, SIEMENS)
DESCRIPTION:Softwarearchitekturen für Digitalisierung – alter Wein in neuen Schläuchen?\nVortrag von Michal Stal (Principal Key Expert Engineer\, SIEMENS)\nim Rahmen der ACM/GI-Regionalgruppe München
URL:https://germany.acm.org/veranstaltungen/softwarearchitekturen-fuer-digitalisierung-alter-wein-in-neuen-schlaeuchen-michal-stal-principal-key-expert-engineer-siemens/
LOCATION:Eden Hotel Wolff\, München\, Arnulfstraße 4-8\, München\, 80335
END:VEVENT
END:VCALENDAR