BEGIN:VCALENDAR
VERSION:2.0
PRODID:-//German Chapter of the ACM - ECPv6.15.20//NONSGML v1.0//EN
CALSCALE:GREGORIAN
METHOD:PUBLISH
X-WR-CALNAME:German Chapter of the ACM
X-ORIGINAL-URL:https://germany.acm.org
X-WR-CALDESC:Veranstaltungen für German Chapter of the ACM
REFRESH-INTERVAL;VALUE=DURATION:PT1H
X-Robots-Tag:noindex
X-PUBLISHED-TTL:PT1H
BEGIN:VTIMEZONE
TZID:Europe/Berlin
BEGIN:DAYLIGHT
TZOFFSETFROM:+0100
TZOFFSETTO:+0200
TZNAME:CEST
DTSTART:20200329T010000
END:DAYLIGHT
BEGIN:STANDARD
TZOFFSETFROM:+0200
TZOFFSETTO:+0100
TZNAME:CET
DTSTART:20201025T010000
END:STANDARD
BEGIN:DAYLIGHT
TZOFFSETFROM:+0100
TZOFFSETTO:+0200
TZNAME:CEST
DTSTART:20210328T010000
END:DAYLIGHT
BEGIN:STANDARD
TZOFFSETFROM:+0200
TZOFFSETTO:+0100
TZNAME:CET
DTSTART:20211031T010000
END:STANDARD
BEGIN:DAYLIGHT
TZOFFSETFROM:+0100
TZOFFSETTO:+0200
TZNAME:CEST
DTSTART:20220327T010000
END:DAYLIGHT
BEGIN:STANDARD
TZOFFSETFROM:+0200
TZOFFSETTO:+0100
TZNAME:CET
DTSTART:20221030T010000
END:STANDARD
END:VTIMEZONE
BEGIN:VEVENT
DTSTART;TZID=Europe/Berlin:20210519T190000
DTEND;TZID=Europe/Berlin:20210519T201500
DTSTAMP:20260424T120546
CREATED:20210515T130516Z
LAST-MODIFIED:20210515T130516Z
UID:905-1621450800-1621455300@germany.acm.org
SUMMARY:Digitale Bücher stehen nicht nur in einer Bibliothek herum - Prof. Maurer
DESCRIPTION:Dokumente der verschiedensten Art werden derzeit digitalisiert und über verschieden Kanäle zur Verfügung gestellt. Der Zugriff ist jederzeit möglich\, ein Dokument wird gleichzeitig genutzt und durchsucht\, usw. Aus einer Bibliothek kann ein interaktives Wissensverwaltungs- oder Lernsystem gemacht werden. NID wird als ein solches System vorgestellt und live gezeigt. Aus einer Sammlung digitaler Dokumente entsteht ein interaktives\, lebendes Gebilde. Dieses ermutigt Rückmeldungen zu Autoren und Administratoren\, aber auch das Einfügen von Links\, Anmerkungen\, Multimedia-Elementen und mehr durch Benutzer\, wobei jederzeit Diskussionen gestartet oder an solchen teilgenommen werden kann. Aus dem „Alleinlesen“ wird eine interaktive Kommunion\, evtl. nur in einer Gruppe. Es treten Aufgaben auf\, wo AI erst zaghafte aber langfristig revolutionäre Lösungen bietet. Auch Phänomene wie das abnehmende „verstehende Lesen“ oder die Behandlung von „fake news“ werden leichter handhabbar.
URL:https://germany.acm.org/veranstaltungen/digitale-buecher-stehen-nicht-nur-in-einer-bibliothek-herum-prof-maurer/
END:VEVENT
BEGIN:VEVENT
DTSTART;TZID=Europe/Berlin:20210527T200000
DTEND;TZID=Europe/Berlin:20210527T211500
DTSTAMP:20260424T120546
CREATED:20210515T125623Z
LAST-MODIFIED:20210515T125920Z
UID:901-1622145600-1622150100@germany.acm.org
SUMMARY:Die Weichen stellen für Künstliche Intelligenz: Ohne Normen und Standards geht es nicht
DESCRIPTION:Beschreibung \nKünstliche Intelligenz ist aus der digitalen Welt nicht mehr wegzudenken. Sie wird\nflächendeckend aber nur erfolgreich zum Einsatz kommen\, wenn die Gesellschaft sie\nakzeptiert. Unternehmen erkennen zwar zunehmend die Chancen durch KI – in der\nBevölkerung stößt Künstliche Intelligenz jedoch aufgrund ethischer Bedenken teils auf\nAblehnung. Deshalb sind Regeln und Vorgaben nötig\, die sicherstellen\, dass ethische Werte\neingehalten werden. Genau hier setzen Normen und Standards an\, indem sie technische\nAnforderungen beschreiben\, Qualitätskriterien definieren und so das Vertrauen in diese\nTechnologie stärken. Wenn Deutschland es über Normung und Standardisierung schafft\, die\neuropäischen Wertmaßstäbe in KI-Anwendungen zu integrieren\, können deutsche KI-\nProdukte weltweit höhere Akzeptanz finden und so die internationale Wettbewerbsfähigkeit\nder deutschen Wirtschaft unterstützt werden. Ein Wegweiser dahin ist die\nNormungsroadmap KI\, die Ende 2020 veröffentlicht wurde und einen zentralen Baustein in\nder KI-Strategie der Bundesregierung umsetzt. Die Handlungsempfehlungen der Roadmap\ngeben damit den Weg für die zukünftige Normung und Standardisierung im Bereich KI vor. In\nIhrem Vortrag wird Fr. Elmas die Ergebnisse der Normungsroadmap KI vorstellen und die\nnächsten Schritte bei der Umsetzung der Empfehlungen skizzieren. \nReferent: \nFiliz Elmas\, Leiterin Geschäftsfeldentwicklung KI
URL:https://germany.acm.org/veranstaltungen/die-weichen-stellen-fuer-kuenstliche-intelligenz-ohne-normen-und-standards-geht-es-nicht/
END:VEVENT
END:VCALENDAR