BEGIN:VCALENDAR
VERSION:2.0
PRODID:-//German Chapter of the ACM - ECPv6.15.20//NONSGML v1.0//EN
CALSCALE:GREGORIAN
METHOD:PUBLISH
X-WR-CALNAME:German Chapter of the ACM
X-ORIGINAL-URL:https://germany.acm.org
X-WR-CALDESC:Veranstaltungen für German Chapter of the ACM
REFRESH-INTERVAL;VALUE=DURATION:PT1H
X-Robots-Tag:noindex
X-PUBLISHED-TTL:PT1H
BEGIN:VTIMEZONE
TZID:Europe/Berlin
BEGIN:DAYLIGHT
TZOFFSETFROM:+0100
TZOFFSETTO:+0200
TZNAME:CEST
DTSTART:20200329T010000
END:DAYLIGHT
BEGIN:STANDARD
TZOFFSETFROM:+0200
TZOFFSETTO:+0100
TZNAME:CET
DTSTART:20201025T010000
END:STANDARD
BEGIN:DAYLIGHT
TZOFFSETFROM:+0100
TZOFFSETTO:+0200
TZNAME:CEST
DTSTART:20210328T010000
END:DAYLIGHT
BEGIN:STANDARD
TZOFFSETFROM:+0200
TZOFFSETTO:+0100
TZNAME:CET
DTSTART:20211031T010000
END:STANDARD
BEGIN:DAYLIGHT
TZOFFSETFROM:+0100
TZOFFSETTO:+0200
TZNAME:CEST
DTSTART:20220327T010000
END:DAYLIGHT
BEGIN:STANDARD
TZOFFSETFROM:+0200
TZOFFSETTO:+0100
TZNAME:CET
DTSTART:20221030T010000
END:STANDARD
END:VTIMEZONE
BEGIN:VEVENT
DTSTART;TZID=Europe/Berlin:20211117T200000
DTEND;TZID=Europe/Berlin:20211117T213000
DTSTAMP:20260424T125407
CREATED:20210822T172411Z
LAST-MODIFIED:20210822T172411Z
UID:952-1637179200-1637184600@germany.acm.org
SUMMARY:Osterfeld for Future
DESCRIPTION:Thema wird noch bekanntgegeben. \nDie Reihe „Osterfeld for Future“ wird unterstützt durch die Integrata Stiftung Tübingen und durch das German Chapter of the ACM.
URL:https://germany.acm.org/veranstaltungen/osterfeld-for-future/
END:VEVENT
BEGIN:VEVENT
DTSTART;VALUE=DATE:20211120
DTEND;VALUE=DATE:20211122
DTSTAMP:20260424T125407
CREATED:20210822T172056Z
LAST-MODIFIED:20210822T172056Z
UID:950-1637370000-1637456399@germany.acm.org
SUMMARY:Stuttgarter Zukunftskongress
DESCRIPTION:Stuttgarter Zukunftskongress 2021\nBildung und Künstliche Intelligenz – Kollege KI in der Bildung \nNach einer Corona-bedingten Pause im letzten Jahr veranstalten wir 2021 wieder zusammen mit unseren Partnern\, der Giordano-Bruno-Stiftung\, dem Weltethos-Institut\, DNWE\, German Chapter of the ACM\, EVW\, GI und INFOS  den Stuttgarter Zukunftskongress.
URL:https://germany.acm.org/veranstaltungen/stuttgarter-zukunftskongress/
END:VEVENT
BEGIN:VEVENT
DTSTART;TZID=Europe/Berlin:20211124T180000
DTEND;TZID=Europe/Berlin:20211124T193000
DTSTAMP:20260424T125407
CREATED:20211118T070219Z
LAST-MODIFIED:20211118T070316Z
UID:989-1637776800-1637782200@germany.acm.org
SUMMARY:[talk.cybercni.fr] Mohammad Hamad (TU Munich\, DE)\, Multilayer Cybersecurity Framework for IoV - Needs
DESCRIPTION:Protecting against cyber risks is the domain of Cybersecurity. The Cyber CNI Speaker series wants to raise awareness and understanding of cybersecurity topics. It wants to enable a continuous dialog between experts from industry and academia and the general public\, including individuals\, families\, companies from small to large sizes\, and public bodies – in short everyone since cybersecurity is relevant for each of us. \nThe Cyber CNI speaker series is a free monthly event on the last Wednesday of the month from 17h-18h30. The event consists of an expert talk of about 40 minutes followed by 30 minutes discussion. \nThe events happen in the Grand Amphitheatre at IMT Atlantique in Rennes (Cesson-Sévigné) AND are broadcast live over Youtube (https://talk.cybercni.fr/)\, enabling global remote participation and including a tool for participating in the discussion.\nYou are cordially invited to participate. Please save the dates and subscribe to receive email notifications!
URL:https://germany.acm.org/veranstaltungen/talk-cybercni-fr-mohammad-hamad-tu-munich-de-multilayer-cybersecurity-framework-for-iov-needs/
LOCATION:YouTube
CATEGORIES:talk.cyberCNI.fr
ORGANIZER;CN="German Chapter of the ACM":MAILTO:secretary@informatik.org
END:VEVENT
BEGIN:VEVENT
DTSTART;VALUE=DATE:20211129
DTEND;VALUE=DATE:20211205
DTSTAMP:20260424T125407
CREATED:20211118T071350Z
LAST-MODIFIED:20211118T071350Z
UID:996-1638147600-1638579599@germany.acm.org
SUMMARY:[future-iot.org] Intensivwoche "IoT meets Cyber and Security" mit vielen kostenlosen online Vorträgen
DESCRIPTION:************************** 4th edition of the Future-IoT PhD school series “IoT meets Cyber and Security“** 29.11.-3.12.2021 in Rennes\, France. ** With keynotes and hands-on sessions from Siemens\, Airbus\, Celonis and many more.** On-Site (recommended) and online (reduced) participation possible. ** More info and registration:**** https://school.future-iot.org/************************The German-French Academy for the Industry of the Future and the chaire Cyber CNI in collaboration with the OCIF team\, the IRISA lab and many more organize the 4th Future-IoT PhD school – this time a winter school. The school is under the motto “IoT meets Cyber”. So it is about software and algorithms in the Internet of Things and Cyber-Physical systems.The 4th Future-IoT winter school takes place from Nov 29-Dec 3\, 2021 in Rennes\, France. The event will be hybrid\, on-site\, via zoom\, and via YouTube and LinkedIN. Please inform your friends and check the program at https://school.future-iot.org/. We look forward to welcoming you!This year’s edition focuses on different aspects of the software cyberspace – the algorithms that move the things around us -\, including cybersecurity. Software drives the critical infrastructures around us\, such as water and energy supply\, communication\, transportation\, banking\, manufacturing and health services.The 4th Future-IoT school takes place in Rennes\, only 1\,5h by train from Paris. The city and the added value of the on-site participation with the hackathon with people on-site\, much better networking\, and last but not least the opportunity to getting to know the city make this the best option. At the same time\, you can also interactively participate and network via zoom\, or you jus follow and interact over YouTube and LinkedIN.Please inform your friends about the event and participate yourself! On-site for the full experience\, via Zoom for half of the experience\, and via YouTube and LinkedIN for the keynotes only.We are looking forward to welcoming you in Rennes!– Program: https://school.future-iot.org/– Registration: https://school.future-iot.org/register– Impressions from 2020: https://future-iot.org/category/2020iotmeetssecurity/– Impressions from 2019: https://future-iot.org/category/2019iotmeetsai/
URL:https://germany.acm.org/veranstaltungen/future-iot-org-intensivwoche-iot-meets-cyber-and-security-mit-vielen-kostenlosen-online-vortraegen/
LOCATION:YouTube
ORGANIZER;CN="German Chapter of the ACM":MAILTO:secretary@informatik.org
END:VEVENT
BEGIN:VEVENT
DTSTART;VALUE=DATE:20211130
DTEND;VALUE=DATE:20211202
DTSTAMP:20260424T125407
CREATED:20210808T090506Z
LAST-MODIFIED:20210808T090506Z
UID:931-1638234000-1638320399@germany.acm.org
SUMMARY:Computer Science in Cars Symposium (CSCS) 2021
DESCRIPTION:The Computer Science in Cars Symposium (CSCS) is ACM’s flagship Car IT event which began in the year 2017 It aims at bringing together the likes of scientists\, engineers\, business representatives and everyone who shares a passion for solving the myriad of complex problems of in-vehicular technology and its application in automation\, driver/vehicular safety and driving system security. \nCall for Papers is open:\nSubmissions für full Papers by September 3rd\, 2021
URL:https://germany.acm.org/veranstaltungen/computer-science-in-cars-symposium-cscs-2021/
LOCATION:Technische Hochschule Ingolstadt\, Esplanade 10\, Ingolstatdt\, 85049\, Deutschland
ORGANIZER;CN="German Chapter of the ACM":MAILTO:secretary@informatik.org
END:VEVENT
END:VCALENDAR